BEGIN:VCALENDAR
VERSION:2.0
PRODID:-//wp-events-plugin.com//7.2.3.1//EN
TZID:Europe/Paris
X-WR-TIMEZONE:Europe/Paris
BEGIN:VEVENT
UID:1915@cafeculturelcitoyen.org
DTSTART;TZID=Europe/Paris:20221022T200000
DTEND;TZID=Europe/Paris:20221022T220000
DTSTAMP:20221005T094126Z
URL:https://cafeculturelcitoyen.org/evenements/les-samedis-du-3c-simon-pel
 e/
SUMMARY:Les samedis du 3C : Simon Pelé
DESCRIPTION:Simon Pelé est un multi-instrumentiste. Jugez plutôt :  Trom
 pette/ voix/ flûte du Maghreb/ Mandole.\n\n\n\nSimon décide de réunir\,
  dans un même projet : CACTUS\, ses différentes influences (jazz\, musi
 que trad.\, électro\, poésie\,…) afin de façonner une entité nouvell
 e\, influencée par ses diverses conceptions de l’improvisation et de la
  musique.\n\n1) https://www.youtube.com/watch?v=eWdAa6Z_j_U&amp\;feature=
 youtu.be\n\n2) https://www.youtube.com/watch?v=iB9AnZy2UTE\n\n
ATTACH;FMTTYPE=image/jpeg:https://cafeculturelcitoyen.org/wp-content/uploa
 ds/2022/09/Capture-decran-2022-09-30-180542.jpg
END:VEVENT
BEGIN:VTIMEZONE
TZID:Europe/Paris
X-LIC-LOCATION:Europe/Paris
BEGIN:DAYLIGHT
DTSTART:20220327T030000
TZOFFSETFROM:+0100
TZOFFSETTO:+0200
TZNAME:CEST
END:DAYLIGHT
END:VTIMEZONE
END:VCALENDAR