BEGIN:VCALENDAR
VERSION:2.0
PRODID:-//wp-events-plugin.com//7.2.3.1//EN
TZID:Europe/Paris
X-WR-TIMEZONE:Europe/Paris
BEGIN:VEVENT
UID:2318@cafeculturelcitoyen.org
DTSTART;TZID=Europe/Paris:20230701T203000
DTEND;TZID=Europe/Paris:20230701T220000
DTSTAMP:20230701T124511Z
URL:https://cafeculturelcitoyen.org/evenements/les-samedis-du-3c-sigana-so
 iree-des-musiques-grecques/
SUMMARY:Les samedis du 3C - Siganà : soirée des musiques grecques
DESCRIPTION:Siganà revisite les musiques populaires et traditionnelles Gre
 cques.
ATTACH;FMTTYPE=image/jpeg:https://cafeculturelcitoyen.org/wp-content/uploa
 ds/2023/06/Capture-decran-2023-06-27-103002.jpg
END:VEVENT
BEGIN:VTIMEZONE
TZID:Europe/Paris
X-LIC-LOCATION:Europe/Paris
BEGIN:DAYLIGHT
DTSTART:20230326T030000
TZOFFSETFROM:+0100
TZOFFSETTO:+0200
TZNAME:CEST
END:DAYLIGHT
END:VTIMEZONE
END:VCALENDAR