BEGIN:VCALENDAR
VERSION:2.0
PRODID:-//wp-events-plugin.com//7.2.3.1//EN
TZID:Europe/Paris
X-WR-TIMEZONE:Europe/Paris
BEGIN:VEVENT
UID:2325@cafeculturelcitoyen.org
DTSTART;TZID=Europe/Paris:20230722T203000
DTEND;TZID=Europe/Paris:20230722T220000
DTSTAMP:20230630T144450Z
URL:https://cafeculturelcitoyen.org/evenements/les-samedis-du-3c-saravah-d
 uo-samba-decalees/
SUMMARY:Les Samedis du 3C : Saravah Duo\, Samba décalé(es) !
DESCRIPTION:Saravah est un duo réunissant Elaine Lopes et Anne-Sophie Cabr
 illat autour de leur identité culturelle et musicale. \nCréé en septem
 bre 2018\, Saravah fait preuve de fraicheur\, de féminité\, d’humour e
 t d’exigence vocale et musicale. A travers des arrangements originaux\, 
 des réécritures et des compositions les 2 musiciennes nous invitent à u
 n voyage aller-retour Paris-Rio\, plein de romantisme\, de fougue et de d
 ésinvolture\, mais surtout de samba !\n\n\nElaine Lopes\n\n\n\nChanteuse\
 , danseuse et comédienne brésilienne\, Elaine est née à Santos (São P
 aulo) au Brésil. Diplômée de conservatoire en piano\, danse classique e
 t coaching vocal elle est également formée en musicothérapie. \nDepuis
  son arrivée en France en 2003\, Elaine poursuit et enrichit son parcours
  artistique et collabore avec de nombreux artistes de la musique brésilie
 nne de la place toulousaine : spectacle musical Femininas avec Olivier Lob
  (tournée brésilienne parrainé par l’Etat de Sao Paulo)\, duo Sol&amp
 \;Lua avec Cécile dos Reis\, conte musical Âme sereine et aujourd’hui 
 Saravah.\n\n\nAnne-Sophie Cabrillat\n\n\n\nPianiste et chanteuse née en 
 Provence\, Anne-Sophie est diplômée du Conservatoire d’Aix-en-Provence
  en piano. Elle étudie ensuite au CIM (école des musiques actuelles en p
 iano\, chant) à Paris où elle se produit pendant plusieurs années. \nS
 a passion des voyages et des rencontres la mènent au Mexique en 2006 où 
 elle crée deux centres Alliances françaises dans lesquels elle développ
 e une dynamique d’échange et d’émulation culturelle intense. C’est
  aussi la rencontre avec des musiciens français et mexicains au travers d
 u projet Sophie y los papazuels qui se produit pendant 2 ans sur de nombre
 uses scènes au Mexique et Amérique centrale (festivals de jazz\, Allianc
 es françaises\, centres culturels). \nPassionnée de musique brésilienn
 e depuis toujours\, elle a fait ses premiers pas de samba auprès d'Alfre
 do Bessa (percussionniste de Baden Powell et Clara Nunes). Installée à 
 Toulouse depuis 8 ans elle évolue dans la scène jazz et latine avec not
 amment Masco (jazz du monde)\, Catendê (novo-samba) et aujourd’hui Sara
 vah.\n​\n\n\n
ATTACH;FMTTYPE=image/jpeg:https://cafeculturelcitoyen.org/wp-content/uploa
 ds/2023/06/Capture-decran-2023-06-30-164316.jpg
END:VEVENT
BEGIN:VTIMEZONE
TZID:Europe/Paris
X-LIC-LOCATION:Europe/Paris
BEGIN:DAYLIGHT
DTSTART:20230326T030000
TZOFFSETFROM:+0100
TZOFFSETTO:+0200
TZNAME:CEST
END:DAYLIGHT
END:VTIMEZONE
END:VCALENDAR