BEGIN:VCALENDAR
VERSION:2.0
PRODID:-//wp-events-plugin.com//7.2.3.1//EN
TZID:Europe/Paris
X-WR-TIMEZONE:Europe/Paris
BEGIN:VEVENT
UID:2011@cafeculturelcitoyen.org
DTSTART;TZID=Europe/Paris:20230121T203000
DTEND;TZID=Europe/Paris:20230121T220000
DTSTAMP:20230102T145757Z
URL:https://cafeculturelcitoyen.org/evenements/les-samedis-du-3c-rememore-
 concert/
SUMMARY:Les samedis du 3C - Remémore\, concert
DESCRIPTION:\nRemémore (Adrien GUIDON) est un auteur-compositeur et musici
 en français basé près d'Aix-en-Provence.\nInfluencé par la chanson fra
 nçaise (Nino Ferrer\, Dominique A …) et le rock indépendant (Smiths\, 
 Radiohead…)\, son style musical se veut tout à la fois intimiste\, "nu"
  et cependant étoffé de divers arrangements et effets sonores. \nSon id
 entité visuelle déclinant deux couleurs (Rose: le temps qui passe\, les 
 roses... et Violet: l'art qui résiste\, l'améthyste...) prolonge en imag
 es son univers musical.\nEntre chanson murmurée et rock intimiste\, son 1
 er album “Un peu plus du bord… Chants de vertige” est disponible dep
 uis l’été 2022.\nRemémore présente en formation acoustique (guitare/
 voix) ce premier projet.\n\n\n\nhttps://www.instagram.com/rememore.chants
 devertige/\n\nREMÉMORE - YouTube\n\nRemémore | Venelles | Facebook
ATTACH;FMTTYPE=image/jpeg:https://cafeculturelcitoyen.org/wp-content/uploa
 ds/2023/01/Capture-decran-2023-01-02-155735.png
END:VEVENT
BEGIN:VTIMEZONE
TZID:Europe/Paris
X-LIC-LOCATION:Europe/Paris
BEGIN:STANDARD
DTSTART:20221030T020000
TZOFFSETFROM:+0200
TZOFFSETTO:+0100
TZNAME:CET
END:STANDARD
END:VTIMEZONE
END:VCALENDAR