BEGIN:VCALENDAR
VERSION:2.0
PRODID:-//wp-events-plugin.com//7.2.3.1//EN
TZID:Europe/Paris
X-WR-TIMEZONE:Europe/Paris
BEGIN:VEVENT
UID:2356@cafeculturelcitoyen.org
DTSTART;TZID=Europe/Paris:20230930T203000
DTEND;TZID=Europe/Paris:20230930T223000
DTSTAMP:20230824T142233Z
URL:https://cafeculturelcitoyen.org/evenements/les-samedis-du-3c-radica-si
 cula-musique-sicilienne/
SUMMARY:Les Samedis du 3C - Radica sicula\, musique sicilienne
DESCRIPTION:Carine Lotta était déjà venu nous régaler à deux reprises\
 , à l'occasion d'une soirée mémorable autour du répertoire de Janis Jo
 plin\, et d'une autre aux tons plus folksong.\nSon talent est multiple et 
 impressionnant\, puisqu'elle choisit de nous faire découvrir son autre gr
 oupe Radica Sicula.\n\nRadica Sicula se fait l'écho des récits musicaux 
 traditionnels de la majestueuse île de la Sicile. Ces chants racontent le
 s traces des cultures ayant élu domicile sur ce grand et énigmatique bou
 t de terre\, en mer Méditerranée.\nLes arias d'amour\, de passion\, de t
 ravail\, de révolte\, les berceuses et les légendes sont interprétés a
 vec toute la ferveur qui fait leur sens.\n\nLa voix est de caractère fort
  attachante\, l'instrumentation délicate et généreuse.\n\nRadica Sicula
  écrit les adaptations\, et entonne rythmes et ritournelles\, d'une Sici
 le originale\, presque imaginaire\, intacte de chaleur et d'engouement.\n
 C'est aujourd'hui l'empreinte d'une Sicile en mouvement qui conserve les 
 sonorités et tournes antiques de l'île\, majesté de Méditerranée.\n\
 n\n\nCarine est en outre à l'origine de l'association Fuozza Cie\, née p
 our porter et développer ses créations et actions culturelles\, emmenant
  nombre d'artistes locaux. Les projets de Carine Lotta font partie des ini
 tiatives musicales et des croisements culturels forts de la Région PACA e
 t du bassin Méditerranéen. Elle est aussi étroitement liée aux initiat
 ives et productions de MCE Productions et de la scène de l’Éolienne à
  Marseille. Elle est soutenue par Eclosion 13\, Culture Provence Verdon\, 
 Rouge Belle de Mai\, le 6Mic...\n\nDISTRIBUTION\nCarine Lotta . Chant\nKar
 ine Monteil . Accordéon\nLIENS\nSite Officiel https://www.fuozza.com/rad
 icasicula\nPage FB https://www.facebook.com/RadicaSicula.Fuozza/
ATTACH;FMTTYPE=image/jpeg:https://cafeculturelcitoyen.org/wp-content/uploa
 ds/2023/08/Radica-Sicula-2023.jpeg
END:VEVENT
BEGIN:VTIMEZONE
TZID:Europe/Paris
X-LIC-LOCATION:Europe/Paris
BEGIN:DAYLIGHT
DTSTART:20230326T030000
TZOFFSETFROM:+0100
TZOFFSETTO:+0200
TZNAME:CEST
END:DAYLIGHT
END:VTIMEZONE
END:VCALENDAR