BEGIN:VCALENDAR
VERSION:2.0
PRODID:-//wp-events-plugin.com//7.2.3.1//EN
TZID:Europe/Paris
X-WR-TIMEZONE:Europe/Paris
BEGIN:VEVENT
UID:2129@cafeculturelcitoyen.org
DTSTART;TZID=Europe/Paris:20230311T203000
DTEND;TZID=Europe/Paris:20230311T220000
DTSTAMP:20230226T185917Z
URL:https://cafeculturelcitoyen.org/evenements/les-samedis-du-3c-philomene
 -tribu/
SUMMARY:Les Samedis du 3C - Philomène Tribu
DESCRIPTION:Revisitant les standards de la bossa\, du Jazz\, sans oublier d
 e grands classiques de la Soul et du Rock\, Philomène Tribu n'en est pas 
 à son coup d'essai et anime les soirées du pays aixois depuis pas mal d'
 années déjà\, dont les nuits du Jazz de la Mareschale\, ou le soutien 
 à la ZAP de Pertuis\, de quoi swinguer et danser !
ATTACH;FMTTYPE=image/jpeg:https://cafeculturelcitoyen.org/wp-content/uploa
 ds/2023/02/Capture-decran-2023-02-26-195541.png
END:VEVENT
BEGIN:VTIMEZONE
TZID:Europe/Paris
X-LIC-LOCATION:Europe/Paris
BEGIN:STANDARD
DTSTART:20221030T020000
TZOFFSETFROM:+0200
TZOFFSETTO:+0100
TZNAME:CET
END:STANDARD
END:VTIMEZONE
END:VCALENDAR