BEGIN:VCALENDAR
VERSION:2.0
PRODID:-//wp-events-plugin.com//7.2.3.1//EN
TZID:Europe/Paris
X-WR-TIMEZONE:Europe/Paris
BEGIN:VEVENT
UID:1933@cafeculturelcitoyen.org
DTSTART;TZID=Europe/Paris:20221119T200000
DTEND;TZID=Europe/Paris:20221119T220000
DTSTAMP:20221019T153014Z
URL:https://cafeculturelcitoyen.org/evenements/les-samedis-du-3c-obscur-fe
 uillage/
SUMMARY:Les samedis du 3C - Obscur Feuillage
DESCRIPTION:Obscur Feuillage\, c’est la folie d’une époque à travers 
 un regard d’artiste incongru\, contemplateur excentrique qui refuse de s
 e laisser abattre.\nÉcrire pour ne pas mourir ? Anne Sylvestre a raison\
 , et chanter bien sûr\, et rire aussi\, pour ne pas dépérir\, car l’h
 eure est grave : les pesticides\, les frontières inexorables\, l’export
  des armes de guerre\, l’école caserne… En poussant les principes qui
  régissent notre société jusqu’à l’absurde\, Obscur Feuillage inca
 rne avec malice la face cachée de notre quotidien dévastateur.\n\n« Da
 ns un univers qui nous plonge autant dans le cabaret fantasque que dans le
  rock alternatif\, Obscur Feuillage est un artiste plus complexe qu’il n
 ’y paraît. » Benjamin Valentie pour Francofans
ATTACH;FMTTYPE=image/jpeg:https://cafeculturelcitoyen.org/wp-content/uploa
 ds/2022/10/Capture-decran-2022-10-19-172936.png
END:VEVENT
BEGIN:VTIMEZONE
TZID:Europe/Paris
X-LIC-LOCATION:Europe/Paris
BEGIN:STANDARD
DTSTART:20221030T020000
TZOFFSETFROM:+0200
TZOFFSETTO:+0100
TZNAME:CET
END:STANDARD
END:VTIMEZONE
END:VCALENDAR