BEGIN:VCALENDAR
VERSION:2.0
PRODID:-//wp-events-plugin.com//7.2.3.1//EN
TZID:Europe/Paris
X-WR-TIMEZONE:Europe/Paris
BEGIN:VEVENT
UID:2337@cafeculturelcitoyen.org
DTSTART;TZID=Europe/Paris:20230909T203000
DTEND;TZID=Europe/Paris:20230909T223000
DTSTAMP:20230809T101437Z
URL:https://cafeculturelcitoyen.org/evenements/les-samedis-du-3c-megaptera
 -nicolas-canavaggia/
SUMMARY:Les samedis du 3C - Megaptera. Nicolas Canavaggia
DESCRIPTION:Megaptera est un concert en solo conceptuel qui nous imagine un
  temps vivre auprès des baleines à bosses et baleines boréales.\nC’es
 t un dialogue fantasmé entre contrebasse et baleines qui rend compte de l
 eur vie secrète et raconte une partie de leur histoire avec les humains.\
 nC’est aussi un moment en suspens qui cherche à provoquer le sentiment 
 océanique et encourage l’introspection.
ATTACH;FMTTYPE=image/jpeg:https://cafeculturelcitoyen.org/wp-content/uploa
 ds/2023/08/a1799878448_10.jpg
END:VEVENT
BEGIN:VTIMEZONE
TZID:Europe/Paris
X-LIC-LOCATION:Europe/Paris
BEGIN:DAYLIGHT
DTSTART:20230326T030000
TZOFFSETFROM:+0100
TZOFFSETTO:+0200
TZNAME:CEST
END:DAYLIGHT
END:VTIMEZONE
END:VCALENDAR