BEGIN:VCALENDAR
VERSION:2.0
PRODID:-//wp-events-plugin.com//7.2.3.1//EN
TZID:Europe/Paris
X-WR-TIMEZONE:Europe/Paris
BEGIN:VEVENT
UID:2134@cafeculturelcitoyen.org
DTSTART;TZID=Europe/Paris:20230318T203000
DTEND;TZID=Europe/Paris:20230318T220000
DTSTAMP:20230315T094134Z
URL:https://cafeculturelcitoyen.org/evenements/les-samedis-du-3c-mas-blues
 -key/
SUMMARY:Les Samedis du 3C - Ma's Blue Key
DESCRIPTION:&nbsp\;\n\nCarine Lotta Chant\, Guitare\, Ecriture\, était dé
 jà venu nous rendre visite pour uine très belle soirée d'hommage à Jan
 is Joplin. Elle revient en solo :\nC'est l'esprit Woodstock\, dans cet asp
 ect blues\, boue\, cordes cassées jusqu'au bout du chant de l'âme. C'est
  brut comme du Cabernet sans sulfites. L'ampli est planté tel un vieux po
 te de collège\, il te rappelle les années Stooges et la Rumba Zaïroise.
 \nLe chant de l'âme\, cité plus haut\, la dame Carine le vit tout en hau
 t\, inspiration\, expiration\, son inspiration n'a pas de limite de consom
 mation. Son chant écho de souffle continu te rentre en vibration comme un
  didgeridoo au clair de lune. La guitare est taillée pour la route\, elle
  est remuée mais collée au siège\, aussi inséparables que le tire-bouc
 hon du liège. Embouteillage d'émotions\, pied au plancher..\nKriss Von V
 inass\n 
ATTACH;FMTTYPE=image/jpeg:https://cafeculturelcitoyen.org/wp-content/uploa
 ds/2023/02/Capture-decran-2023-02-27-112506.jpeg
END:VEVENT
BEGIN:VTIMEZONE
TZID:Europe/Paris
X-LIC-LOCATION:Europe/Paris
BEGIN:STANDARD
DTSTART:20221030T020000
TZOFFSETFROM:+0200
TZOFFSETTO:+0100
TZNAME:CET
END:STANDARD
END:VTIMEZONE
END:VCALENDAR