BEGIN:VCALENDAR
VERSION:2.0
PRODID:-//wp-events-plugin.com//7.2.3.1//EN
TZID:Europe/Paris
X-WR-TIMEZONE:Europe/Paris
BEGIN:VEVENT
UID:1935@cafeculturelcitoyen.org
DTSTART;TZID=Europe/Paris:20221105T200000
DTEND;TZID=Europe/Paris:20221105T220000
DTSTAMP:20221021T153603Z
URL:https://cafeculturelcitoyen.org/evenements/les-samedis-du-3c-ma-barbar
 a-a-moi-par-sandrine-daddi-et-jb-riere/
SUMMARY:Les samedis du 3C - Ma Barbara à moi\, par Sandrine Daddi et JB Ri
 ère
DESCRIPTION:Barbara\, dans ses chansons\, a écrit la joie et la tristesse 
 que l’on traverse tout au cours d’une vie \; en l’écoutant ce sont 
 ses émotions que l’on ressent et qui jaillissent de sa poésie. Elle y 
 décrit l’amour des autres\, de ses proches\, de son public\, l’amour 
 d’un homme …\nUne véritable histoire d’Amour\, l’histoire d’une
  vie\, son histoire\, que tout être sensible ne peut que vivre pleinement
  en l’écoutant. Cette histoire\, me nourrit depuis l’âge de 20 ans s
 ans jamais m’en lasser. C’est une œuvre parfaite que Barbara nous a l
 aissée en héritage. Un chef d’œuvre de la chanson française.\nAujour
 d’hui\, c’est avec passion et émotions que j’interprète ses chanso
 ns en m’accompagnant de ma guitare. Et ce sont ces émotions-là qui me 
 tiennent à cœur de partager à travers ce récital\, un hommage à notre
  grande dame brune. Un peu de ma Barbara à moi\, la mienne… car nous av
 ons tous en nous\, un peu de Barbara.\n\nLa rencontre avec Jean Bernard Ri
 ère contrebassiste de formation classique partageant la même sensibilit
 é à sa poésie et à sa musique\, est la rencontre espérée pour m’ac
 compagner et enrichir ce projet. Son jeu d’archet et son pizzicato tisse
 nt avec ma voix et ma guitare un duo aux teintes et sonorités chaleureuse
 s\, un duo contrebalancé à l’esprit Brassens\, un duo pour voyager dan
 s l’intimité au fil des émotions de ma Barbara à moi …
ATTACH;FMTTYPE=image/jpeg:https://cafeculturelcitoyen.org/wp-content/uploa
 ds/2022/10/Capture-decran-2022-10-21-173413.png
END:VEVENT
BEGIN:VTIMEZONE
TZID:Europe/Paris
X-LIC-LOCATION:Europe/Paris
BEGIN:STANDARD
DTSTART:20221030T020000
TZOFFSETFROM:+0200
TZOFFSETTO:+0100
TZNAME:CET
END:STANDARD
END:VTIMEZONE
END:VCALENDAR