BEGIN:VCALENDAR
VERSION:2.0
PRODID:-//wp-events-plugin.com//7.2.3.1//EN
TZID:Europe/Paris
X-WR-TIMEZONE:Europe/Paris
BEGIN:VEVENT
UID:2051@cafeculturelcitoyen.org
DTSTART;TZID=Europe/Paris:20230225T203000
DTEND;TZID=Europe/Paris:20230225T223000
DTSTAMP:20230221T161713Z
URL:https://cafeculturelcitoyen.org/evenements/les-samedis-du-3c-luisa-y-a
 lvaro-duo-italo-chilien/
SUMMARY:Les samedis du 3C - Pablo y Alvaro Duo chilien
DESCRIPTION:Pablo est né à Santiago du Chili. Sa carrière d'artiste déb
 ute en 2005 lorsqu'il entre au Ballet folklorique chilien en tant que dans
 eur et musicien curieux. Entre différentes étapes et rencontres musicale
 s\, il développe sa carrière artistique jusqu'à trouver sa véritable v
 ocation de chanteur et guitariste.Guitariste\, arrangeur\, compositeur et 
 multi-instrumentiste avec une carrière de plus de 18 ans dans la musique 
 dans différents style. Alvaro a participé dans plus de 30 festivals à t
 ravers le monde représentant le Chili et la culture latino-américaine.\n
 Alvaro a produit 2 albums de musique d’auteur et a collaboré dans plus 
 de 10 productions musicales.\n\n&nbsp\;
ATTACH;FMTTYPE=image/jpeg:https://cafeculturelcitoyen.org/wp-content/uploa
 ds/2023/02/Capture-decran-2023-02-21-171556.png
END:VEVENT
BEGIN:VTIMEZONE
TZID:Europe/Paris
X-LIC-LOCATION:Europe/Paris
BEGIN:STANDARD
DTSTART:20221030T020000
TZOFFSETFROM:+0200
TZOFFSETTO:+0100
TZNAME:CET
END:STANDARD
END:VTIMEZONE
END:VCALENDAR