BEGIN:VCALENDAR
VERSION:2.0
PRODID:-//wp-events-plugin.com//7.2.3.1//EN
TZID:Europe/Paris
X-WR-TIMEZONE:Europe/Paris
BEGIN:VEVENT
UID:1960@cafeculturelcitoyen.org
DTSTART;TZID=Europe/Paris:20221203T200000
DTEND;TZID=Europe/Paris:20221203T220000
DTSTAMP:20221129T134212Z
URL:https://cafeculturelcitoyen.org/evenements/les-samedis-du-3c-louis-lin
 solence-concert/
SUMMARY:les samedis du 3C - Louis l'Insolence - concert
DESCRIPTION:Une voix intense\, une guitare granuleuse et des textes trancha
 nts\, LOUIS L’INSOLENCE compose des chansons subtilement radicales influ
 encées par le jazz\, l’opéra et la culture rock. Seul en scène\, son 
 jeu de guitare\, le lyrisme de sa voix\, la profondeur des textes nous tra
 nsportent ailleurs\, vers une musique intemporelle rappelant des artistes 
 comme Jeff Buckley ou Léo Ferré.\n\n&nbsp\;\n\nhttps://youtu.be/FcT7gX0X
 fXE
ATTACH;FMTTYPE=image/jpeg:https://cafeculturelcitoyen.org/wp-content/uploa
 ds/2022/11/Capture-decran-2022-11-29-143540.png
END:VEVENT
BEGIN:VTIMEZONE
TZID:Europe/Paris
X-LIC-LOCATION:Europe/Paris
BEGIN:STANDARD
DTSTART:20221030T020000
TZOFFSETFROM:+0200
TZOFFSETTO:+0100
TZNAME:CET
END:STANDARD
END:VTIMEZONE
END:VCALENDAR