BEGIN:VCALENDAR
VERSION:2.0
PRODID:-//wp-events-plugin.com//7.2.3.1//EN
TZID:Europe/Paris
X-WR-TIMEZONE:Europe/Paris
BEGIN:VEVENT
UID:2259@cafeculturelcitoyen.org
DTSTART;TZID=Europe/Paris:20230506T203000
DTEND;TZID=Europe/Paris:20230506T223000
DTSTAMP:20230426T081342Z
URL:https://cafeculturelcitoyen.org/evenements/les-samedis-du-3c-les-caill
 oux-germes/
SUMMARY:Les Samedis du 3C - les Cailloux germés
DESCRIPTION:Bienvenue dans le monde envoûtant et ensoleillé de notre grou
 pe de reggae roots du sud Luberon ! Avec notre formation de sept membres\,
  nous sommes un collectif passionné de musique.\nNos talents musicaux son
 t variés\, allant de la flûte suave de Chloé "TinkerBell" Stone\, à la
  basse entraînante de Cyril "The Wally" Stone\, en passant par les percus
 sions énergiques d'Éric "African Doctor" Stone et la batterie rythmique 
 de Wolfgang "Crazydrum" Stone. Nous avons également un chanteur et guitar
 iste lead charismatique en la personne de Big "C" Stone\, un pianiste tale
 ntueux nommé Lionel "Goldfinger" Stone et un guitariste incroyable nommé
  Paul "Stringmaster" Stone.\nNotre musique est profondément ancrée dans 
 les traditions du reggae roots\, avec des rythmes entraînants et des mél
 odies envoûtantes. Nous sommes impatients de continuer à partager notre 
 musique avec vous tous.
ATTACH;FMTTYPE=image/jpeg:https://cafeculturelcitoyen.org/wp-content/uploa
 ds/2023/04/Capture-decran-2023-04-26-095532.png
END:VEVENT
BEGIN:VTIMEZONE
TZID:Europe/Paris
X-LIC-LOCATION:Europe/Paris
BEGIN:DAYLIGHT
DTSTART:20230326T030000
TZOFFSETFROM:+0100
TZOFFSETTO:+0200
TZNAME:CEST
END:DAYLIGHT
END:VTIMEZONE
END:VCALENDAR