BEGIN:VCALENDAR
VERSION:2.0
PRODID:-//wp-events-plugin.com//7.2.3.1//EN
TZID:Europe/Paris
X-WR-TIMEZONE:Europe/Paris
BEGIN:VEVENT
UID:1975@cafeculturelcitoyen.org
DTSTART;TZID=Europe/Paris:20221217T200000
DTEND;TZID=Europe/Paris:20221217T220000
DTSTAMP:20221205T145023Z
URL:https://cafeculturelcitoyen.org/evenements/les-samedis-du-3c-lalbatros
 /
SUMMARY:Les Samedis du 3C - L'albatros
DESCRIPTION:Profondément humaniste\, influencé par la poésie de Gaël Fa
 ye\, de Georges Brassens\, de Baudelaire... L’Albatros est un drôle d
 ’oiseau. Dans un style oscillant entre rap\, slam et chanson\, il nous e
 mmène avec lui dans ses voyages introspectifs et ses questionnements soci
 étaux sur des sujets tels que l’école\, la démocratie\, l’amour...\
 n&nbsp\;\n\nhttps://www.youtube.com/watch?v=FXy_QapFP7A
ATTACH;FMTTYPE=image/jpeg:https://cafeculturelcitoyen.org/wp-content/uploa
 ds/2022/12/Capture-decran-2022-12-05-154859.png
END:VEVENT
BEGIN:VTIMEZONE
TZID:Europe/Paris
X-LIC-LOCATION:Europe/Paris
BEGIN:STANDARD
DTSTART:20221030T020000
TZOFFSETFROM:+0200
TZOFFSETTO:+0100
TZNAME:CET
END:STANDARD
END:VTIMEZONE
END:VCALENDAR