BEGIN:VCALENDAR
VERSION:2.0
PRODID:-//wp-events-plugin.com//7.2.3.1//EN
TZID:Europe/Paris
X-WR-TIMEZONE:Europe/Paris
BEGIN:VEVENT
UID:2035@cafeculturelcitoyen.org
DTSTART;TZID=Europe/Paris:20230218T203000
DTEND;TZID=Europe/Paris:20230218T220000
DTSTAMP:20230129T193321Z
URL:https://cafeculturelcitoyen.org/evenements/les-samedis-du-3c-k-blues-h
 ommage-a-janis-joplin/
SUMMARY:Les Samedis du 3C - K Blues\, hommage à Janis Joplin
DESCRIPTION:\n\n\n\n\n\n\n\n\n\nAllons enfants de l'harmonie\, nouveaux né
 s sous les cris de musique blanche\, noire. K.Blues est à bord de ce live
  exclusivement dédié à la Reine Blanche du Blues : Janis Joplin.\nElle 
 est une des rares à avoir hérité de l'authentique ferveur de la Dame. O
 n a peur de trouver ce que l'on va y trouver\, et vice et versa.\nPanthèr
 e de compagnie refusant la mauvaise foi\, mais pas l'humain dans son anima
 lité la plus noble.\nFiliation mutante de l'ère en question\, espèce de
  proximité universelle\, palette d'émotions barbares\, déclinaison d'hu
 meurs comme autant de survie\, sorte d'affinités vibratoires\, une rencon
 tre digne d'un voyage dans l'intestin grêle.\nIci et maintenant\, rangez 
 vos cierges et sortez vos feux de joie.\nFaute d'assister au show d'une r
 éplique de cire\, on distille ici une rétrospective aux abois.\n\n\n\n\n
 \n\n\n\n
ATTACH;FMTTYPE=image/jpeg:https://cafeculturelcitoyen.org/wp-content/uploa
 ds/2023/01/Capture-decran-2023-01-29-202821.png
END:VEVENT
BEGIN:VTIMEZONE
TZID:Europe/Paris
X-LIC-LOCATION:Europe/Paris
BEGIN:STANDARD
DTSTART:20221030T020000
TZOFFSETFROM:+0200
TZOFFSETTO:+0100
TZNAME:CET
END:STANDARD
END:VTIMEZONE
END:VCALENDAR