BEGIN:VCALENDAR
VERSION:2.0
PRODID:-//wp-events-plugin.com//7.2.3.1//EN
TZID:Europe/Paris
X-WR-TIMEZONE:Europe/Paris
BEGIN:VEVENT
UID:2239@cafeculturelcitoyen.org
DTSTART;TZID=Europe/Paris:20230401T203000
DTEND;TZID=Europe/Paris:20230401T220000
DTSTAMP:20230326T173708Z
URL:https://cafeculturelcitoyen.org/evenements/les-samedis-du-3c-journeyma
 n/
SUMMARY:Les Samedis du 3C : Journeyman
DESCRIPTION:« Pèlerin » \, ou JOURNEYMAN\, l’homme orchestre qui enreg
 istre en live ses\ninstruments\, créant des boucles au groove imparable. 
 Sillone la route pour distiller\nla bonne parole d'un univers frais au ser
 vice d’une voix lumineuse\, rimant en\nFrançais et Anglais\, à travers
  de furieux solos de guitare soul.\n\n"Musicien auteur-compositeur et inte
 rprète\, Sylvain Mayoli alias Journeyman\, est un artiste hors norme. Seu
 l en scène mais homme orchestre\, avec son « looper » il enregistre en 
 live quelques accords de guitare\, basse\, percussions puis pose sa voix.\
 nD’un univers électrique bouillonnant à des chansons folk pures\, quan
 d il chante\, le charme de son magnifique grain de voix titille les émoti
 ons et captive. Cette alchimie si particulière entre voix et instruments\
 , nous plonge dans un concert exceptionnel."\n\nLe Dauphiné libéré
ATTACH;FMTTYPE=image/jpeg:https://cafeculturelcitoyen.org/wp-content/uploa
 ds/2023/03/Capture-decran-2023-03-26-193209.png
END:VEVENT
BEGIN:VTIMEZONE
TZID:Europe/Paris
X-LIC-LOCATION:Europe/Paris
BEGIN:DAYLIGHT
DTSTART:20230326T030000
TZOFFSETFROM:+0100
TZOFFSETTO:+0200
TZNAME:CEST
END:DAYLIGHT
END:VTIMEZONE
END:VCALENDAR