BEGIN:VCALENDAR
VERSION:2.0
PRODID:-//wp-events-plugin.com//7.2.3.1//EN
TZID:Europe/Paris
X-WR-TIMEZONE:Europe/Paris
BEGIN:VEVENT
UID:2353@cafeculturelcitoyen.org
DTSTART;TZID=Europe/Paris:20230826T203000
DTEND;TZID=Europe/Paris:20230826T223000
DTSTAMP:20230816T170038Z
URL:https://cafeculturelcitoyen.org/evenements/les-samedis-du-3c-irossa-en
 -concert/
SUMMARY:Les samedis du 3C - Irossa en concert
DESCRIPTION:Irossa est un projet né en 2022 à Turin. Jeune groupe\, donc\
 , composé de jeunes - talentueux\, inspirés. Ils nous proposeront un set
  d'alt/indie rock aux compos entièrement originales.\n\nLes critiques en 
 Italie ont décrit Irossa comme  "contaminé et contaminant".\n\nIl y a d
 es chances que le 3C ait fait\, avec ce groupe\, une découverte prometteu
 se.\n\nCiao da Torino\n\n&nbsp\;\n\n&nbsp\;\n\nhttps://www.youtube.com/wat
 ch?v=tbkgaZtHeI8
ATTACH;FMTTYPE=image/jpeg:https://cafeculturelcitoyen.org/wp-content/uploa
 ds/2023/08/Capture-decran-2023-08-16-180928.png
END:VEVENT
BEGIN:VTIMEZONE
TZID:Europe/Paris
X-LIC-LOCATION:Europe/Paris
BEGIN:DAYLIGHT
DTSTART:20230326T030000
TZOFFSETFROM:+0100
TZOFFSETTO:+0200
TZNAME:CEST
END:DAYLIGHT
END:VTIMEZONE
END:VCALENDAR