BEGIN:VCALENDAR
VERSION:2.0
PRODID:-//wp-events-plugin.com//7.2.3.1//EN
TZID:Europe/Paris
X-WR-TIMEZONE:Europe/Paris
BEGIN:VEVENT
UID:2049@cafeculturelcitoyen.org
DTSTART;TZID=Europe/Paris:20230211T203000
DTEND;TZID=Europe/Paris:20230211T220000
DTSTAMP:20230207T095336Z
URL:https://cafeculturelcitoyen.org/evenements/les-samedis-du-3c-horion-en
 -concert/
SUMMARY:Les Samedis du 3C - Horion en concert !
DESCRIPTION:Passionné de musique dès le plus jeune âge\, Horion se lance
  alors corps et âme dans l’apprentissage de la guitare à l’âge de 9
  ans. Quelques années plus tard il décide d’élargir ses horizons musi
 caux et commence à apprendre le piano et le chant\, puis s’intéressera
  à d’autres instruments\, comme la basse\, la batterie\, ou le violon. 
 Après 3 ans et demi passés à écrire\, composer\, enregistrer voix et i
 nstruments\, mixer et masteriser ses chansons\, son album Multiple Big Ban
 gs est sorti en 2020. Son second album\, Gloria Femina est sorti en novemb
 re 2022. Il est dédié aux grandes femmes\, mythiques ou réelles qui ont
  marqué l’histoire et incarné à ses yeux le féminin sacré.
ATTACH;FMTTYPE=image/jpeg:https://cafeculturelcitoyen.org/wp-content/uploa
 ds/2023/02/Capture-decran-2023-02-07-105302.png
END:VEVENT
BEGIN:VTIMEZONE
TZID:Europe/Paris
X-LIC-LOCATION:Europe/Paris
BEGIN:STANDARD
DTSTART:20221030T020000
TZOFFSETFROM:+0200
TZOFFSETTO:+0100
TZNAME:CET
END:STANDARD
END:VTIMEZONE
END:VCALENDAR