BEGIN:VCALENDAR
VERSION:2.0
PRODID:-//wp-events-plugin.com//7.2.3.1//EN
TZID:Europe/Paris
X-WR-TIMEZONE:Europe/Paris
BEGIN:VEVENT
UID:2308@cafeculturelcitoyen.org
DTSTART;TZID=Europe/Paris:20230624T203000
DTEND;TZID=Europe/Paris:20230624T220000
DTSTAMP:20230613T114331Z
URL:https://cafeculturelcitoyen.org/evenements/les-samedis-du-3c-des-cigal
 es-dans-la-fourmiliere/
SUMMARY:Les samedis du 3C - Duo J'no
DESCRIPTION:J’no\, un duo voix/guitare/ percus . Jean noël Pomarède \, 
 auteur compositeur et Bernard Nouveau\, compositeur-interprète-accompagna
 teur .\nDes chansons à texte\, poétiques et humanistes pleines à la foi
 s d'humour et de dérision\, le tout  plutôt engagé.\nUn moment de poé
 sie\, de joie et de chouettes textes
ATTACH;FMTTYPE=image/jpeg:https://cafeculturelcitoyen.org/wp-content/uploa
 ds/2023/06/Capture-decran-2023-06-13-134015.jpg
END:VEVENT
BEGIN:VTIMEZONE
TZID:Europe/Paris
X-LIC-LOCATION:Europe/Paris
BEGIN:DAYLIGHT
DTSTART:20230326T030000
TZOFFSETFROM:+0100
TZOFFSETTO:+0200
TZNAME:CEST
END:DAYLIGHT
END:VTIMEZONE
END:VCALENDAR