BEGIN:VCALENDAR
VERSION:2.0
PRODID:-//wp-events-plugin.com//7.2.3.1//EN
TZID:Europe/Paris
X-WR-TIMEZONE:Europe/Paris
BEGIN:VEVENT
UID:2264@cafeculturelcitoyen.org
DTSTART;TZID=Europe/Paris:20230513T190000
DTEND;TZID=Europe/Paris:20230513T203000
DTSTAMP:20230427T094140Z
URL:https://cafeculturelcitoyen.org/evenements/les-samedis-du-3c-cy-premie
 r-concert-de-la-soiree/
SUMMARY:Les Samedis du 3C - CY : Premier concert de la soirée
DESCRIPTION:Avec son projet solo « Reaching out »\, · Cy · nous délivr
 e une pop-folk ambient mêlant avec brio mélodies épurées et sonorités
  atmosphériques\, invitant l’auditeur au voyage intérieur et à la con
 nexion avec ses émotions.\nUn EP pensé comme un mouvement intérieur s
 ’ouvrant vers l’extérieur\, ce disque est l’aboutissement naturel d
 u chemin artistique de son auteur. Compositeur\, producteur et interprète
 \, · Cy · s’entoure pour l’occasion d’autres musiciens de renom (T
 im Thornton du groupe FINK\, Dimitri Reverchon de BONGI ou encore Arthur B
 illès – SQ5).\nUn univers qui se dévoile à la perfection avec le morc
 eau « Same Old Story » qui s’offre un clip très cinématographique.
  On y découvre un personnage principal\, porteur d’une maladie peu comm
 une : il s’évanouit dès qu’il croise le regard d’une autre personn
 e. Les interactions sociales deviennent presque impossibles et c’est pou
 rquoi il finit par s’isoler dans la nature. Un jour\, il rencontre une j
 eune femme atteinte du même mal. Cette dernière pense trouver en lui une
  réponse à ses questions et peut-être bien quelqu’un pour la comprend
 re.\nAvec le clip de « Same Old Story » · Cy · cherche à mettre en va
 leur les moments de beauté et de poésie qui parcourent une vie malgré s
 es aléas. A chaque instant\, dans toute son intimité… c’est « toujo
 urs la même histoire ».\nActua News\n\nhttps://www.youtube.com/watch?v=T
 fjLlSRT-V8&amp\;t=1s
ATTACH;FMTTYPE=image/jpeg:https://cafeculturelcitoyen.org/wp-content/uploa
 ds/2023/04/Capture-decran-2023-04-27-113828.png
END:VEVENT
BEGIN:VTIMEZONE
TZID:Europe/Paris
X-LIC-LOCATION:Europe/Paris
BEGIN:DAYLIGHT
DTSTART:20230326T030000
TZOFFSETFROM:+0100
TZOFFSETTO:+0200
TZNAME:CEST
END:DAYLIGHT
END:VTIMEZONE
END:VCALENDAR