BEGIN:VCALENDAR
VERSION:2.0
PRODID:-//wp-events-plugin.com//7.2.3.1//EN
TZID:Europe/Paris
X-WR-TIMEZONE:Europe/Paris
BEGIN:VEVENT
UID:2016@cafeculturelcitoyen.org
DTSTART;TZID=Europe/Paris:20230128T203000
DTEND;TZID=Europe/Paris:20230128T220000
DTSTAMP:20230124T115648Z
URL:https://cafeculturelcitoyen.org/evenements/les-samedis-du-3c-concert-l
 atino-avec-andrea-mejia-bolivar/
SUMMARY:Les Samedis du 3C - concert latino avec Andrea Mejia Bolivar
DESCRIPTION:Une soirée pour voyager latino et que nos veines pulsent aux r
 ythmes  du beau folklore latino-américain. (Invitée spéciale Tattiana 
 Angel).\n\nSoyez nombreux et nombreuses à venir nous rejoindre !
ATTACH;FMTTYPE=image/jpeg:https://cafeculturelcitoyen.org/wp-content/uploa
 ds/2023/01/Capture-decran-2023-01-24-125249.jpg
END:VEVENT
BEGIN:VTIMEZONE
TZID:Europe/Paris
X-LIC-LOCATION:Europe/Paris
BEGIN:STANDARD
DTSTART:20221030T020000
TZOFFSETFROM:+0200
TZOFFSETTO:+0100
TZNAME:CET
END:STANDARD
END:VTIMEZONE
END:VCALENDAR