BEGIN:VCALENDAR
VERSION:2.0
PRODID:-//wp-events-plugin.com//7.2.3.1//EN
TZID:Europe/Paris
X-WR-TIMEZONE:Europe/Paris
BEGIN:VEVENT
UID:1909@cafeculturelcitoyen.org
DTSTART;TZID=Europe/Paris:20221015T200000
DTEND;TZID=Europe/Paris:20221015T220000
DTSTAMP:20220929T145731Z
URL:https://cafeculturelcitoyen.org/evenements/les-samedis-du-3c-chichi-et
 -banane-litterature-de-ficelle/
SUMMARY:Les Samedis du 3C - Chichi et Banane\, littérature de ficelle
DESCRIPTION:Chichi chahute les règles littéraires en écrivant « comme 
 on parle » préférant jouer avec les mots et les faire chanter plutôt 
 que de se contraindre à un cadre poétique académique.\n\nMais attention
 \, il ne chante pas\, il fait chanter les mots !\n\nLe défi était de pa
 rvenir à composer une musique respectant la musicalité des phrasés fleu
 ris de l’accent provençal du poète. Ainsi chaque composition a été c
 ousue main.\n\nQuant à la littérature de ficelle\, elle nous est tout dr
 oit inspirée de la littérature de cordel brésilienne. Ce rapport au Br
 ésil les inscrit dans la lignée de la nouvelle musique occitane portée 
 par la Linha Imaginòt.\n\nCes poèmes déclamés en musique sont faits po
 ur être entendus ou lus avec l’accent mais aussi admirés et exposés 
 !\n\nhttps://www.youtube.com/watch?v=k-n1QBtaohI
ATTACH;FMTTYPE=image/jpeg:https://cafeculturelcitoyen.org/wp-content/uploa
 ds/2022/09/Capture-decran-2022-09-29-163753.jpg
END:VEVENT
BEGIN:VTIMEZONE
TZID:Europe/Paris
X-LIC-LOCATION:Europe/Paris
BEGIN:DAYLIGHT
DTSTART:20220327T030000
TZOFFSETFROM:+0100
TZOFFSETTO:+0200
TZNAME:CEST
END:DAYLIGHT
END:VTIMEZONE
END:VCALENDAR