BEGIN:VCALENDAR
VERSION:2.0
PRODID:-//wp-events-plugin.com//7.2.3.1//EN
TZID:Europe/Paris
X-WR-TIMEZONE:Europe/Paris
BEGIN:VEVENT
UID:2265@cafeculturelcitoyen.org
DTSTART;TZID=Europe/Paris:20230513T210000
DTEND;TZID=Europe/Paris:20230513T230000
DTSTAMP:20230427T132515Z
URL:https://cafeculturelcitoyen.org/evenements/les-samedis-du-3c-bouzouk-d
 uo-2eme-concert-de-la-soiree/
SUMMARY:Les samedis du 3C : Bouzouk duo\, 2ème concert de la soirée
DESCRIPTION:Groupe fondé en 2007 de la rencontre du jazz et de la musique 
 indienne\, Bouzouk Duo offre un voyage musical où se mêlent les sonorit
 és acoustiques et une pointe d’électro au gré des improvisations. Il 
 est composé d'Eric Perinet (percussions :tablas\, hangdrum\, udu...) et d
 'Alexandre Escarguel (piano synthés).
ATTACH;FMTTYPE=image/jpeg:https://cafeculturelcitoyen.org/wp-content/uploa
 ds/2023/04/Capture-decran-2023-04-27-152122.jpeg
END:VEVENT
BEGIN:VTIMEZONE
TZID:Europe/Paris
X-LIC-LOCATION:Europe/Paris
BEGIN:DAYLIGHT
DTSTART:20230326T030000
TZOFFSETFROM:+0100
TZOFFSETTO:+0200
TZNAME:CEST
END:DAYLIGHT
END:VTIMEZONE
END:VCALENDAR