BEGIN:VCALENDAR
VERSION:2.0
PRODID:-//wp-events-plugin.com//7.2.3.1//EN
TZID:Europe/Paris
X-WR-TIMEZONE:Europe/Paris
BEGIN:VEVENT
UID:2345@cafeculturelcitoyen.org
DTSTART;TZID=Europe/Paris:20230825T203000
DTEND;TZID=Europe/Paris:20230825T223000
DTSTAMP:20230825T165906Z
URL:https://cafeculturelcitoyen.org/evenements/les-samedis-du-3c-bicha-en-
 concert/
SUMMARY:Bicha en concert : soirée latina !
DESCRIPTION:C'est le retour ds soirées latina du 3C avec Bicha !\n\n&nbsp\
 ;\n\nBICHA est une autrice compositrice\, interprète Colombienne dans le 
 registre " pop alternative". Sa musique\, expérimente les rythmes et mesu
 res de la Cumbia\, la bossa-nova\, le Hip hop et les beats électroniques.
  Son univers sonore s'inspire de la nature\, de la force de la femme et du
  pouvoir de la Culture Latine\n\nhttps://bichamusic.wixsite.com/bichamusic
 a/bicha
ATTACH;FMTTYPE=image/jpeg:https://cafeculturelcitoyen.org/wp-content/uploa
 ds/2023/08/bicha.png
END:VEVENT
BEGIN:VTIMEZONE
TZID:Europe/Paris
X-LIC-LOCATION:Europe/Paris
BEGIN:DAYLIGHT
DTSTART:20230326T030000
TZOFFSETFROM:+0100
TZOFFSETTO:+0200
TZNAME:CEST
END:DAYLIGHT
END:VTIMEZONE
END:VCALENDAR