BEGIN:VCALENDAR
VERSION:2.0
PRODID:-//wp-events-plugin.com//7.2.3.1//EN
TZID:Europe/Paris
X-WR-TIMEZONE:Europe/Paris
BEGIN:VEVENT
UID:1939@cafeculturelcitoyen.org
DTSTART;TZID=Europe/Paris:20221112T200000
DTEND;TZID=Europe/Paris:20221112T220000
DTSTAMP:20221025T222745Z
URL:https://cafeculturelcitoyen.org/evenements/les-samedis-du-3c-basa-duo/
SUMMARY:Les samedis du 3C - Basa Duo
DESCRIPTION:\nFUSION WORLD MUSIQUE DYNAMIQUE\n\n\n\nCréée en avril 2019\,
  BASA DUO est une fusion moderne franco-africaine.\nBaba Sayon Diabaté au
  Balafon\, Elsa Keita à la guitare\, la magie de Basa et sa profonde huma
 nité vous emporte ailleurs.\nAccompagnés\, selon la formule\,  de diff
 érents percussionnistes\, Madou Diakité\, Alsény Solo Chérif ou Yves B
 angoura\, la complicité de ces musiciens nous amène dans un nouveau styl
 e\, la World-Musique-Dynamique.\nPour le plus grand plaisir des gourmands 
 de la fusion africaine.\nChanté en Malinké et Français\, avec des racin
 es traditionnelles d'Afrique de l'Ouest\, une mixité culturelle et instru
 mentale qui le propulse dans l'air du temps.\nIls nous offrent un véritab
 le dépaysement\, un beau voyage vers des terres lointaines et inconnues. 
 Dans l'émotion et dans l'ivresse d'un son acoustique\, Basa vous présent
 e ses créations...\nhttps://www.youtube.com/watch?v=bU4Bf2MXukY\n\n
ATTACH;FMTTYPE=image/jpeg:https://cafeculturelcitoyen.org/wp-content/uploa
 ds/2022/10/Capture-decran-2022-10-26-002715.png
END:VEVENT
BEGIN:VTIMEZONE
TZID:Europe/Paris
X-LIC-LOCATION:Europe/Paris
BEGIN:STANDARD
DTSTART:20221030T020000
TZOFFSETFROM:+0200
TZOFFSETTO:+0100
TZNAME:CET
END:STANDARD
END:VTIMEZONE
END:VCALENDAR