BEGIN:VCALENDAR
VERSION:2.0
PRODID:-//wp-events-plugin.com//7.2.3.1//EN
TZID:Europe/Paris
X-WR-TIMEZONE:Europe/Paris
BEGIN:VEVENT
UID:1904@cafeculturelcitoyen.org
DTSTART;TZID=Europe/Paris:20221008T200000
DTEND;TZID=Europe/Paris:20221008T220000
DTSTAMP:20221005T094028Z
URL:https://cafeculturelcitoyen.org/evenements/les-samedis-du-3c-au-choeur
 -de-la-lutte-par-la-compagnie-des-oeillets/
SUMMARY:Les Samedis du 3C - Au Choeur de la lutte\, par la compagnie des Oe
 illets
DESCRIPTION:Trois ami-es\, trois personnalités\, trois artistes réunis au
 tour d’un objectif commun : la mise en lumière des chants de lutte de 1
 789 à nos jours.\nAu chœur de la lutte est un conte musical qui retrace 
 le parcours des chants de rue. Au gré des révoltes et révolutions\, il 
 transporte le public dans le combat des peuples pour leur émancipation. A
  la croisée des chemins entre fresque artistique et éducation populaire\
 , la compagnie des œillets met en valeur les différentes conquêtes soci
 ales arrachées au fil des siècles.\nTout au long de cette épopée popul
 aire\, vous serez surpris par les bruitages du conteur\, emballés par le 
 rythme de la guitare\, touchés par le son de la flûte traversière\, des
  polyphonies vocales ou de l’accordéon.\nCe spectacle percutant et enth
 ousiaste est interactif\, le public est invité à participer sur certaine
 s chansons. Le récit vous emmène sur un panel d’émotions contrasté\,
  l’humour comme les destins tragiques sont au rendez-vous.\nAu chœur de
  la lutte a bénéficié du talent de deux metteurs en scène ayant consac
 ré cinquante ans de leur vie aux arts du spectacle. Sur scène\, vous ret
 rouverez Samuel au théâtre et aux bruitages\, Estéban et Marlène à la
  musique et au chant. Les deux musiciens interviennent également en tant 
 que comédiens durant la narration\, afin de rendre le texte vivant\, drô
 le\, et parfois dramatique.
ATTACH;FMTTYPE=image/jpeg:https://cafeculturelcitoyen.org/wp-content/uploa
 ds/2022/09/Capture-decran-2022-09-08-082111.jpg
END:VEVENT
BEGIN:VTIMEZONE
TZID:Europe/Paris
X-LIC-LOCATION:Europe/Paris
BEGIN:DAYLIGHT
DTSTART:20220327T030000
TZOFFSETFROM:+0100
TZOFFSETTO:+0200
TZNAME:CEST
END:DAYLIGHT
END:VTIMEZONE
END:VCALENDAR