BEGIN:VCALENDAR
VERSION:2.0
PRODID:-//wp-events-plugin.com//7.2.3.1//EN
TZID:Europe/Paris
X-WR-TIMEZONE:Europe/Paris
BEGIN:VEVENT
UID:2248@cafeculturelcitoyen.org
DTSTART;TZID=Europe/Paris:20230923T203000
DTEND;TZID=Europe/Paris:20230923T220000
DTSTAMP:20230920T155708Z
URL:https://cafeculturelcitoyen.org/evenements/les-samedis-du-3c-artie-bur
 ell-en-concert/
SUMMARY:Les Samedis du 3C. Artie en concert
DESCRIPTION:Les habitué-es du 3C le connaissent bien puisqu'il a été le 
 programmateur du café pendant deux ans. Auteur-compositeur et interprète
  (folk-blues-americana). Il prend la route en 2023 avec son premier specta
 cle "Case and Tracks".
ATTACH;FMTTYPE=image/jpeg:https://cafeculturelcitoyen.org/wp-content/uploa
 ds/2023/03/Capture-decran-2023-03-27-225308.png
END:VEVENT
BEGIN:VTIMEZONE
TZID:Europe/Paris
X-LIC-LOCATION:Europe/Paris
BEGIN:DAYLIGHT
DTSTART:20230326T030000
TZOFFSETFROM:+0100
TZOFFSETTO:+0200
TZNAME:CEST
END:DAYLIGHT
END:VTIMEZONE
END:VCALENDAR