BEGIN:VCALENDAR
VERSION:2.0
PRODID:-//wp-events-plugin.com//7.2.3.1//EN
TZID:Europe/Paris
X-WR-TIMEZONE:Europe/Paris
BEGIN:VEVENT
UID:2280@cafeculturelcitoyen.org
DTSTART;TZID=Europe/Paris:20230527T203000
DTEND;TZID=Europe/Paris:20230527T220000
DTSTAMP:20230429T154600Z
URL:https://cafeculturelcitoyen.org/evenements/les-samedis-du-3c-andres-co
 rrea-et-cavito-mendoza/
SUMMARY:Les Samedis du 3C - Andrès Correa et Cavito Mendoza
DESCRIPTION:Andrés Correa est un auteur-compositeur et animateur culturel 
 de Bogota. Sa carrière a commencé en 2003 et depuis il a enregistré neu
 f albums. Au cours de ces années\, ses chansons l’ont amené à parcour
 ir les rues de l’Amérique latine et de l’Espagne\, partageant des sc
 ènes et des enregistrements avec les musiciens les plus importants de sa 
 génération. Andrés fait appel à la simplicité\, mais il le fait avec 
 l’intelligence naturelle des grands auteurs\, ceux qui consacrent leur v
 ie au métier inlassablement.\n\nCavito Mendoza est une chanteuse née à 
 Bogota. Son premier album appelé PIEZAS PEREGRINAS est un hommage sonore 
 à Gabriel Garcia Márquez et ses douze contes pèlerins. Ses travaux suiv
 ants ont eu l’influence de la littérature et des arts audiovisuels\, el
 le est sur le point de sortir son deuxième album. Dans sa musique\, vous 
 pouvez trouver des éléments de la pop\, indie\, bossa nova et les rythme
 s colombiens de l’intérieur du pays.\n\nhttps://www.youtube.com/watch?v
 =MLVl8GL4Vfc\n\n&nbsp\;\n\nhttps://www.youtube.com/watch?v=Ftx1PFJc-Ic
ATTACH;FMTTYPE=image/jpeg:https://cafeculturelcitoyen.org/wp-content/uploa
 ds/2023/04/2.png
END:VEVENT
BEGIN:VTIMEZONE
TZID:Europe/Paris
X-LIC-LOCATION:Europe/Paris
BEGIN:DAYLIGHT
DTSTART:20230326T030000
TZOFFSETFROM:+0100
TZOFFSETTO:+0200
TZNAME:CEST
END:DAYLIGHT
END:VTIMEZONE
END:VCALENDAR