BEGIN:VCALENDAR
VERSION:2.0
PRODID:-//wp-events-plugin.com//7.2.3.1//EN
TZID:Europe/Paris
X-WR-TIMEZONE:Europe/Paris
BEGIN:VEVENT
UID:2291@cafeculturelcitoyen.org
DTSTART;TZID=Europe/Paris:20230603T210000
DTEND;TZID=Europe/Paris:20230603T223000
DTSTAMP:20230530T081719Z
URL:https://cafeculturelcitoyen.org/evenements/les-samedis-du-3c-2eme-part
 ie/
SUMMARY:Les samedis du 3C - 2ème partie : Papaya Jazz
DESCRIPTION:PAPAYA JAZZ est un groupe de reprises et compositions Jazz - Fu
 sion - Bossa\, pour continuer la soirée en rythme et en beauté\n\n\nA d
 écouvrir ici :\n\n\n\n\n\nInstagram : @papaya.jazz\n\nPapaya Jazz - Face
 book\n\nPapayajazz - YouTube\n\n\n\n
ATTACH;FMTTYPE=image/jpeg:https://cafeculturelcitoyen.org/wp-content/uploa
 ds/2023/05/4.jpeg
END:VEVENT
BEGIN:VTIMEZONE
TZID:Europe/Paris
X-LIC-LOCATION:Europe/Paris
BEGIN:DAYLIGHT
DTSTART:20230326T030000
TZOFFSETFROM:+0100
TZOFFSETTO:+0200
TZNAME:CEST
END:DAYLIGHT
END:VTIMEZONE
END:VCALENDAR