BEGIN:VCALENDAR
VERSION:2.0
PRODID:-//wp-events-plugin.com//7.2.3.1//EN
TZID:Europe/Paris
X-WR-TIMEZONE:Europe/Paris
BEGIN:VEVENT
UID:2290@cafeculturelcitoyen.org
DTSTART;TZID=Europe/Paris:20230603T190000
DTEND;TZID=Europe/Paris:20230603T203000
DTSTAMP:20230525T121712Z
URL:https://cafeculturelcitoyen.org/evenements/les-samedis-du-3c-1ere-part
 ie-mano-libre/
SUMMARY:Les samedis du 3C - 1ère partie : Mano libre
DESCRIPTION:Le Joropo est la musique populaire de Colombie et du Venezuela.
 \n\nMano Libre c'est à la fois un cocon dans lequel on se laisse bercer e
 t l'énergie de deux musiciens qui vibrent ensemble pour créer un univers
  musical singulier autour de la musique llanera.\n\nLe joropo raconte avec
  poésie le quotidien au cœur des plaines transfrontalières qui réuniss
 ent la Colombie et le Venezuela autour d’une même culture : la musique
  llanera. Mano Libre propose une interprétation singulière et sensible d
 e ce répertoire traditionnel\, pour un moment de musique authentique.\n\n
 Mano Libre c’est la main qui se tend vers l’autre pour créer des pont
 s entre les cultures\, la paume ouverte vers l’horizon des possibles\, c
 omme un cocon où l’on se laisse bercer. C’est aussi l’énergie de d
 eux musiciens qui vibrent ensemble pour voyager\, le temps d’un concert\
 , en terres llaneras.\n\nMUSICIENS :\n\nLouise Septet : harpe\, chant\n\
 nClément Barbot : cuatro\, contrebasse\n\nSUR INTERNET :\n\nhttps://www
 .facebook.com/lamanolibre.duo\n\nhttps://youtu.be/bWbbrksCyPE\n\nhttps://s
 oundcloud.com/user-590471132
ATTACH;FMTTYPE=image/jpeg:https://cafeculturelcitoyen.org/wp-content/uploa
 ds/2023/05/Capture-decran-2023-05-25-140725.jpeg
END:VEVENT
BEGIN:VTIMEZONE
TZID:Europe/Paris
X-LIC-LOCATION:Europe/Paris
BEGIN:DAYLIGHT
DTSTART:20230326T030000
TZOFFSETFROM:+0100
TZOFFSETTO:+0200
TZNAME:CEST
END:DAYLIGHT
END:VTIMEZONE
END:VCALENDAR