BEGIN:VCALENDAR
VERSION:2.0
PRODID:-//wp-events-plugin.com//7.2.3.1//EN
TZID:Europe/Paris
X-WR-TIMEZONE:Europe/Paris
BEGIN:VEVENT
UID:2245@cafeculturelcitoyen.org
DTSTART;TZID=Europe/Paris:20230429T203000
DTEND;TZID=Europe/Paris:20230429T220000
DTSTAMP:20230420T134817Z
URL:https://cafeculturelcitoyen.org/evenements/les-samedis-du-3c-1-verre-2
 -trop/
SUMMARY:Les samedis du 3C - 1 vers 2 trop
DESCRIPTION:Après mille déboires\, de groupes en bouteilles\, c’est dan
 s le fond du verre que ce duo a fermenté. Entre deux bœufs saucés la bo
 urguignonne est née l’envie d’accoucher de poésies allongées sur un
  lit de musique : en somme de la « poésique ».\nAlors\, trinquer aux ve
 rs de Genet et se tâcher d’un rouge Aragon. Rire aux éclats le Rictus 
 crispé\, Glissant sur les tourments d’Artaud. Et\, marteau\, se brûler
  les lèvres de sels noirs Baldwin...\nLa recette est simple : des textes 
 posés sur l’harmonie d’un piano et les cadences de batterie - le tout
  arrosé d’une voix qui oscille entre spoken words et chanson.\n
ATTACH;FMTTYPE=image/jpeg:https://cafeculturelcitoyen.org/wp-content/uploa
 ds/2023/03/Capture-decran-2023-04-17-190034.png
END:VEVENT
BEGIN:VTIMEZONE
TZID:Europe/Paris
X-LIC-LOCATION:Europe/Paris
BEGIN:DAYLIGHT
DTSTART:20230326T030000
TZOFFSETFROM:+0100
TZOFFSETTO:+0200
TZNAME:CEST
END:DAYLIGHT
END:VTIMEZONE
END:VCALENDAR