BEGIN:VCALENDAR
VERSION:2.0
PRODID:-//wp-events-plugin.com//7.2.3.1//EN
TZID:Europe/Paris
X-WR-TIMEZONE:Europe/Paris
BEGIN:VEVENT
UID:2724@cafeculturelcitoyen.org
DTSTART;TZID=Europe/Paris:20240125T200000
DTEND;TZID=Europe/Paris:20240125T213000
DTSTAMP:20240115T145856Z
URL:https://cafeculturelcitoyen.org/evenements/les-ritournelles/
SUMMARY:Les Ritourn'elles
DESCRIPTION:Discours à la nation. Ascanio Celestini.\n\nDébarrassés de t
 oute respectabilité ces discours\, aussi comiques qu’effrayants\, parle
 nt des aberrations de nos sociétés modernes.\nAu cœur de chaque histoir
 e\, il y a une image\, le ton noir de la fable\, une vertigineuse parabole
  anarchique : des mots qui ouvrent en grand des portes dans la tête du le
 cteur.\n( Et du spectateur !)\nAscanio Célestini est né en 1972 et vit 
 à Rome. Cinéaste\, dramaturge\, écrivain\, il est l'un des acteurs les 
 plus connus du théâtre narratif en Italie.\n\nPar la Compagnie des Ritou
 rn'elles\nNadine Fillat\, Mireille Giordano\nMise en scène : Nanouk Broch
 e
ATTACH;FMTTYPE=image/jpeg:https://cafeculturelcitoyen.org/wp-content/uploa
 ds/2024/01/1702810506373-scaled-e1705330453338.jpg
END:VEVENT
BEGIN:VTIMEZONE
TZID:Europe/Paris
X-LIC-LOCATION:Europe/Paris
BEGIN:STANDARD
DTSTART:20231029T020000
TZOFFSETFROM:+0200
TZOFFSETTO:+0100
TZNAME:CET
END:STANDARD
END:VTIMEZONE
END:VCALENDAR