BEGIN:VCALENDAR
VERSION:2.0
PRODID:-//wp-events-plugin.com//7.2.3.1//EN
TZID:Europe/Paris
X-WR-TIMEZONE:Europe/Paris
BEGIN:VEVENT
UID:2434@cafeculturelcitoyen.org
DTSTART;TZID=Europe/Paris:20231216T203000
DTEND;TZID=Europe/Paris:20231216T203000
DTSTAMP:20231012T101421Z
URL:https://cafeculturelcitoyen.org/evenements/les-miraboys/
SUMMARY:Les Miraboys
DESCRIPTION:Les Miraboys \nFolk\, blues\, bluegrass\n\nCertaines chansons 
 ont la vie dure.\nNées dans la misère\, de parents inconnus\, au fond d
 u Kerry\, du Kentucky ou du Mississippi\, passées de main en main\, de v
 oix en voix\, elles résistent à tout. Au temps et au voyage.\nQuelques-u
 nes ont trouvé refuge dans une petite rue de Gardanne\, où les Miraboys 
 ont pris soin d'elles. Mais comme ils n'ont pas le cœur de les garder enf
 ermées\, ils les libéreront sur la scène du 3C\, le vendredi 16 décemb
 re.\n
ATTACH;FMTTYPE=image/jpeg:https://cafeculturelcitoyen.org/wp-content/uploa
 ds/2023/10/Les-miraboys.png
END:VEVENT
BEGIN:VTIMEZONE
TZID:Europe/Paris
X-LIC-LOCATION:Europe/Paris
BEGIN:STANDARD
DTSTART:20231029T020000
TZOFFSETFROM:+0200
TZOFFSETTO:+0100
TZNAME:CET
END:STANDARD
END:VTIMEZONE
END:VCALENDAR