BEGIN:VCALENDAR
VERSION:2.0
PRODID:-//wp-events-plugin.com//7.2.3.1//EN
TZID:Europe/Paris
X-WR-TIMEZONE:Europe/Paris
BEGIN:VEVENT
UID:2230@cafeculturelcitoyen.org
DTSTART;TZID=Europe/Paris:20230323T190000
DTEND;TZID=Europe/Paris:20230323T220000
DTSTAMP:20230321T131848Z
URL:https://cafeculturelcitoyen.org/evenements/les-jeudis-du-3c-une-memoir
 e-pour-loubli-documentaire-de-marie-genies/
SUMMARY:Les Jeudis du 3C - Une mémoire contre l'oubli\, documentaire de Ma
 rie Géniès
DESCRIPTION:Cette projection s'inscrit dans la semaine internationale contr
 e l'apartheid israélien\, à l'initiative du comité local de la campagne
  BDS France: BDS Provence.\n\nLa situation en Palestine continue d'empirer
  depuis la réalisation de ce film. Non seulement Israël intensifie sa co
 lonisation\, mais mais encore le sionisme met-il en place de plus en plus 
 un droit différent pour les israéliens et les Palestiniens\, instaurant 
 désormais officiellement l’apartheid."\n\nLe film de Marie Géniès\, q
 ui en appelle à l’histoire et à la mémoire des luttes\, est plus que 
 jamais nécessaire.\n\nLa soirée sera suivi d’un débat avec la réalis
 atrice ainsi qu’avec une animatrice du comité local BDS Provence : Boyc
 ott-Désinvestissement-Sanctions qui relaie la campagne d'appel au boycott
  de l'Etat israélien tant que celui-ci ne respectera pas le droit interna
 tional et les droits humains\n\nhttps://www.bdsfrance.org/le-peuple-contre
 -lapartheid/\n\n\n\n\n\n\n\nMarie Géniès est née en 1986. Elle a grand
 i en Seine Saint Denis et vit à Marseille depuis l’été 2020. Elle tr
 availle depuis 2009 dans l’audiovisuel en tant que monteuse\, cadreuse e
 t journaliste reporter d’images. Elle réalise en 2019 son premier doc
 umentaire « Une mémoire conte l’oubli ». Il a été sélectionné au
  festival My First Doc en Tunisie (décembre 2020) \; ainsi qu’au festiv
 al Ciné-Palestine Toulouse Occitanie (mars 2022). Marie Géniès réali
 se actuellement son deuxième documentaire indépendant.\n\nUne participat
 ion aux frais libre et consciente est attendue des participant-es\, sous u
 ne forme individuelle ou collective\n\n\n\n\n\n\n
ATTACH;FMTTYPE=image/jpeg:https://cafeculturelcitoyen.org/wp-content/uploa
 ds/2023/02/Capture-decran-2023-03-06-160227.jpg
END:VEVENT
BEGIN:VTIMEZONE
TZID:Europe/Paris
X-LIC-LOCATION:Europe/Paris
BEGIN:STANDARD
DTSTART:20221030T020000
TZOFFSETFROM:+0200
TZOFFSETTO:+0100
TZNAME:CET
END:STANDARD
END:VTIMEZONE
END:VCALENDAR