BEGIN:VCALENDAR
VERSION:2.0
PRODID:-//wp-events-plugin.com//7.2.3.1//EN
TZID:Europe/Paris
X-WR-TIMEZONE:Europe/Paris
BEGIN:VEVENT
UID:2139@cafeculturelcitoyen.org
DTSTART;TZID=Europe/Paris:20230601T200000
DTEND;TZID=Europe/Paris:20230601T220000
DTSTAMP:20230529T133310Z
URL:https://cafeculturelcitoyen.org/evenements/les-jeudis-du-3c-une-memoir
 e-contre-loubli-projection-de-film/
SUMMARY:Les Jeudis du 3C - Une mémoire contre l'oubli - Projection en pré
 sence de la réalisatrice
DESCRIPTION:\n\n\n\n\n\nNous présentons ce documentaire en présence de sa
  réalisatrice Marie Géniès.\nCe moyen métrage vous entraîne au cœur 
 de la Palestine occupée\, à la rencontre de Jamila\, Karim\, Odeh.\nMusu
 lmane\, Juif\, Chrétien mais avant tout PALESTINIEN.NE.S ils nous disent
  leur vie sous occupation\, avec son lot d’arrestations arbitraires.\nEn
  effet\, depuis 1967\, 800.000 palestiniens de toute confessions sont pass
 és par la case prison.\nLe film de Marie Géniès\, qui en appelle à l
 ’histoire et à la mémoire des luttes\, est plus que jamais nécessaire
 .\nLe collectif Boycott-Désinvestissement-Sanctions (BDS) participera à 
 la soirée débat autour de la situation actuelle en Palestine."\n\n\n\n\n
ATTACH;FMTTYPE=image/jpeg:https://cafeculturelcitoyen.org/wp-content/uploa
 ds/2023/02/Capture-decran-2023-05-23-111740.png
END:VEVENT
BEGIN:VTIMEZONE
TZID:Europe/Paris
X-LIC-LOCATION:Europe/Paris
BEGIN:DAYLIGHT
DTSTART:20230326T030000
TZOFFSETFROM:+0100
TZOFFSETTO:+0200
TZNAME:CEST
END:DAYLIGHT
END:VTIMEZONE
END:VCALENDAR