BEGIN:VCALENDAR
VERSION:2.0
PRODID:-//wp-events-plugin.com//7.2.3.1//EN
TZID:Europe/Paris
X-WR-TIMEZONE:Europe/Paris
BEGIN:VEVENT
UID:2320@cafeculturelcitoyen.org
DTSTART;TZID=Europe/Paris:20230706T193000
DTEND;TZID=Europe/Paris:20230706T220000
DTSTAMP:20230629T201638Z
URL:https://cafeculturelcitoyen.org/evenements/les-jeudis-du-3c-une-histoi
 re-populaire-des-etats-unis-comment-howard-zinn-a-fait-decouvrir-lhistoire
 -cachee/
SUMMARY:Les jeudis du 3C - Une histoire populaire des Etats-unis\, comment 
 Howard Zinn a fait découvrir l'histoire cachée
DESCRIPTION:Au début du XXème siècle\, les parents d’Howard Zinn déba
 rquent d’Europe de l’Est à Ellis Island\, comme des millions de migra
 nts qui rêvent de terre promise\, qui rêvent de fortune\, qui rêvent si
 mplement d’une vie meilleure... Ils découvrent l’Amérique. "Tant que
  les lapins n’auront pas d’historiens\, l’histoire sera racontée pa
 r les chasseurs..."Avec : Howard Zinn\, Noam Chomsky\, Chris Hedges...\n\
 nAvec l’énorme succès de son livre Une histoire populaire des États-U
 nis\, Howard Zinn a changé le regard des Américains sur eux-mêmes. Zinn
  parle de ceux qui ne parlent pas dans l’histoire officielle\, les escla
 ves\, les Indiens\, les déserteurs\, les ouvrières du textile\, les synd
 icalistes et tous les inaperçus en lutte pour briser leurs chaînes. À l
 a fin Zinn disait "Je veux qu’on se souvienne de moi comme quelqu’un q
 ui a donné aux gens des sentiments d’espoir et de pouvoir qu’ils n’
 avaient pas avant".\n\n&nbsp\;\n\nProjection débat\, animée par Benjamin
  Koskas
ATTACH;FMTTYPE=image/jpeg:https://cafeculturelcitoyen.org/wp-content/uploa
 ds/2023/06/Capture-decran-2023-06-29-221506.jpg
END:VEVENT
BEGIN:VTIMEZONE
TZID:Europe/Paris
X-LIC-LOCATION:Europe/Paris
BEGIN:DAYLIGHT
DTSTART:20230326T030000
TZOFFSETFROM:+0100
TZOFFSETTO:+0200
TZNAME:CEST
END:DAYLIGHT
END:VTIMEZONE
END:VCALENDAR