BEGIN:VCALENDAR
VERSION:2.0
PRODID:-//wp-events-plugin.com//7.2.3.1//EN
TZID:Europe/Paris
X-WR-TIMEZONE:Europe/Paris
BEGIN:VEVENT
UID:1931@cafeculturelcitoyen.org
DTSTART;TZID=Europe/Paris:20221110T200000
DTEND;TZID=Europe/Paris:20221110T220000
DTSTAMP:20221021T100220Z
URL:https://cafeculturelcitoyen.org/evenements/les-jeudis-du-3c-une-breve-
 histoire-du-feminisme-et-de-ses-revendications-avec-gilda-derouet/
SUMMARY:Les Jeudis du 3C - Une brève histoire du féminisme et de ses reve
 ndications\, avec Gilda Derouet
DESCRIPTION:Depuis « MeToo »\, l’impensé féministe ne peut plus êt
 re mis de côté ou négligé.\nLa  prise de conscience de la violence su
 bie par les femmes depuis plusieurs siècles\,\nsur tous les plans (sexuel
 \, social\, médical\, religieux…) est très forte actuellement.\nNéanm
 oins\, elle est constamment désavouée dans les médias mainstream\,\nins
 trumentalisée par nombre de camps politiques\, y compris « progressiste
 s »\, et le\npatriarcat multiplie ses attaques contre la cause des femme
 s.\nDepuis des figures historiques comme Olympe de Gouges ou Louise Michel
 \, jusqu’à\nNicole Claude Mathieu ou Judith Butler\, le féminisme pose
  à la société des questions\nessentielles et revendique pour des droits
  fondamentaux : celui de disposer de son\ncorps\, l’égalité salariale
 \, la lutte contre les violences faîtes aux femmes\,…\nPour certaines f
 éministes il s’agit également de remettre en cause le patriarcat qui\n
 renouvelle sans cesse la domination masculine.\nPour nous éclairer sur ce
 s grandes questions\, Gilda Derouet nous proposera de\nparcourir une brèv
 e histoire du féminisme.\n\nSecrétaire médicale\, psychologue\, consult
 ante en formation et docteure en\nphilosophie depuis un an\, c’est ce pa
 rcours atypique qui a permis a Gilda Derouet de\ncôtoyer des milliers de 
 femmes de milieux sociaux différents et de s’intéresser aux\nraisons d
 es inégalités entre les femmes et les hommes.
ATTACH;FMTTYPE=image/jpeg:https://cafeculturelcitoyen.org/wp-content/uploa
 ds/2022/10/Capture-decran-2022-10-19-114818.png
END:VEVENT
BEGIN:VTIMEZONE
TZID:Europe/Paris
X-LIC-LOCATION:Europe/Paris
BEGIN:STANDARD
DTSTART:20221030T020000
TZOFFSETFROM:+0200
TZOFFSETTO:+0100
TZNAME:CET
END:STANDARD
END:VTIMEZONE
END:VCALENDAR