BEGIN:VCALENDAR
VERSION:2.0
PRODID:-//wp-events-plugin.com//7.2.3.1//EN
TZID:Europe/Paris
X-WR-TIMEZONE:Europe/Paris
BEGIN:VEVENT
UID:1994@cafeculturelcitoyen.org
DTSTART;TZID=Europe/Paris:20230119T190000
DTEND;TZID=Europe/Paris:20230119T210000
DTSTAMP:20221228T095201Z
URL:https://cafeculturelcitoyen.org/evenements/les-jeudis-du-3c-sur-les-tr
 aces-de-tina-modotti-photographe-et-revolutionnaire/
SUMMARY:Les jeudis du 3C - Sur les traces de Tina Modotti\, photographe et 
 révolutionnaire
DESCRIPTION:La rencontre du duo Catherine Vincent avec Tina Modotti (1
 896-1942) a été le déclic d’un voyage intérieur à la recherche d
 ’une musique intime et personnelle. Des chansons et des textes s’alt
 ernent et se répondent. \n\nUn spectacle original et émouvant qui é
 voque cette photographe engagée de la première moitié du XXe siècle 
 à travers son intimité\, ses errances et ses combats.\n\nLe spectacle se
 ra suivi d'une discussion avec les artistes.
ATTACH;FMTTYPE=image/jpeg:https://cafeculturelcitoyen.org/wp-content/uploa
 ds/2022/12/Capture-decran-2022-12-28-104955.jpg
END:VEVENT
BEGIN:VTIMEZONE
TZID:Europe/Paris
X-LIC-LOCATION:Europe/Paris
BEGIN:STANDARD
DTSTART:20221030T020000
TZOFFSETFROM:+0200
TZOFFSETTO:+0100
TZNAME:CET
END:STANDARD
END:VTIMEZONE
END:VCALENDAR