BEGIN:VCALENDAR
VERSION:2.0
PRODID:-//wp-events-plugin.com//7.2.3.1//EN
TZID:Europe/Paris
X-WR-TIMEZONE:Europe/Paris
BEGIN:VEVENT
UID:2131@cafeculturelcitoyen.org
DTSTART;TZID=Europe/Paris:20230413T193000
DTEND;TZID=Europe/Paris:20230413T223000
DTSTAMP:20230411T093713Z
URL:https://cafeculturelcitoyen.org/evenements/les-jeudis-du-3c-suite-de-l
 exploration-des-identites-de-frontieres-avec-maya-mihindou/
SUMMARY:Les Jeudis du 3C - Pour une écologie pirate : et nous serons libre
 s\, avec Maya Mihindou
DESCRIPTION:Troisième volet de l'exploration des "identités de frontière
 s"\, à l'intersection des questions des féminisme\, décolonialisme\, et
  antiracisme. \n\nLe livre "Pour une écologie pirate : et nous serons lib
 res"\, de Fatima Ouassak\, nous guidera dans ces interrogations et introdu
 ira une variable supplémentaire : les enjeux liés aux urgences écologiq
 ues\, pensés à partir des quartiers populaires. \n\nLe mouvement climat 
 doit s'emparer de l'antiracisme politique pour ne pas être dilué dans l'
 obsession patriotique\, celle du "grand remplacement"\, et la fermeture de
 s frontières propres aux obsessions de l’extrême droite montante en Eu
 rope. \n\nFatima Ouassak invite les habitant.es des quartiers populaires 
 à sortir de l'errance et du discours utilitariste posé sur "l'immigratio
 n économique" pour se réancrer politiquement et lutter à partir de son 
 lieu.
ATTACH;FMTTYPE=image/jpeg:https://cafeculturelcitoyen.org/wp-content/uploa
 ds/2023/02/Capture-decran-2023-04-11-111224.jpg
END:VEVENT
BEGIN:VTIMEZONE
TZID:Europe/Paris
X-LIC-LOCATION:Europe/Paris
BEGIN:DAYLIGHT
DTSTART:20230326T030000
TZOFFSETFROM:+0100
TZOFFSETTO:+0200
TZNAME:CEST
END:DAYLIGHT
END:VTIMEZONE
END:VCALENDAR