BEGIN:VCALENDAR
VERSION:2.0
PRODID:-//wp-events-plugin.com//7.2.3.1//EN
TZID:Europe/Paris
X-WR-TIMEZONE:Europe/Paris
BEGIN:VEVENT
UID:2007@cafeculturelcitoyen.org
DTSTART;TZID=Europe/Paris:20230126T190000
DTEND;TZID=Europe/Paris:20230126T220000
DTSTAMP:20230111T092649Z
URL:https://cafeculturelcitoyen.org/evenements/les-jeudis-du-3c-sos-medite
 rranee-soiree-de-presentation/
SUMMARY:Les Jeudis du 3C - SOS Méditerranée\, soirée de soutien + concer
 t + surprise !
DESCRIPTION:Soirée de soutien à SOS Méditerranée\, suivi d'un concert d
 u Groupe Odalva\n\nSOS MEDITERRANEE : association civile européenne basé
 e à Marseille créée en 2015 et rejointe par l'Allemagne\, l'Italie et l
 a Suisse. Les 2 piliers de ses actions sont basés sur les droits maritime
  et humanitaire :\n« Tout navire a l’obligation de porter assistance sa
 ns délai à une personne en détresse»\n« Tout rescapé doit être déb
 arqué en ‘Lieu sûr’ dans les meilleurs délais\, où ses droits fond
 amentaux seront respectés. »\n\nSes 3 missions sont SAUVER-PROTEGER\, av
 ec un équipage d'une trentaine de professionnels en mer sur l'Ocean Vikin
 g (sauveteurs\, marins\, personnel médical) et TEMOIGNER avec ses salari
 és et bénévoles à terre repartis dans 19 antennes pour la France. 3600
 0 PERSONNES SECOURUES DEPUIS 2015\nFinancée à 90% par des dons...\n\nsos
 mediterranee.fr\n\n\nOdalva c’est de la chanson actuelle. Ils sont deux.
  Elle a une voix claire et belle\, lui semble toujours prêt à partir en 
 roue libre. Leurs chansons sont comme une bulle de fraîcheur posée sur l
 e monde. Avec une tendre complicité\, ils embarquent le public dans une b
 alade hors du temps\, les pieds sur terre et la tête dans les étoiles. U
 n spectacle poétique\, drôle et d’une grande sincérité.\n\nDe et ave
 c : Manon Maurin &amp\; Norbert Gauthier\n\n\n\n\n\n\n\nwww.odalva.net\nEt
  ... surprise : Thibaud intervenant SOS de la soirée alias sur scène Bob
 zy la tire\, chantera un rap de sa composition et de circonstance : L'exil
 \n\n\n\n
ATTACH;FMTTYPE=image/jpeg:https://cafeculturelcitoyen.org/wp-content/uploa
 ds/2023/01/DjcEzyjXcAA40bP.jpeg
END:VEVENT
BEGIN:VTIMEZONE
TZID:Europe/Paris
X-LIC-LOCATION:Europe/Paris
BEGIN:STANDARD
DTSTART:20221030T020000
TZOFFSETFROM:+0200
TZOFFSETTO:+0100
TZNAME:CET
END:STANDARD
END:VTIMEZONE
END:VCALENDAR