BEGIN:VCALENDAR
VERSION:2.0
PRODID:-//wp-events-plugin.com//7.2.3.1//EN
TZID:Europe/Paris
X-WR-TIMEZONE:Europe/Paris
BEGIN:VEVENT
UID:1899@cafeculturelcitoyen.org
DTSTART;TZID=Europe/Paris:20221006T193000
DTEND;TZID=Europe/Paris:20221006T213000
DTSTAMP:20221004T081304Z
URL:https://cafeculturelcitoyen.org/evenements/les-jeudis-du-3c-soiree-att
 ac-theatre/
SUMMARY:Les Jeudis du 3C - Bars\, loups et gros loubards\, par ATTAC pays d
 'Aix
DESCRIPTION:BARS\, LOUPS ET GROS LOUBARDS\n\nEnjeux écologiques et sociaux
  au bout de la ligne.\nUne pièce écrite par « Les As sans dents » la t
 roupe de théâtre amateur d’ ATTAC MARSEILLE\nDeux scènes dans un cadr
 e typiquement marseillais :\n\nune partie de carte dans un bar et les jout
 es de l’Estaque permettent d’aborder la question des impacts écologiq
 ues du commerce maritime international (énormes bateaux de croisière\, C
 MA-CGM leader mondial du transport maritime …) et l’hypocrisie du gree
 nwashing pratiqué par les multinationales comme TotalÉnergies\nUne 3ème
  scène illustrera le problème des équipages et des différents statuts 
 des marins .\n\nUn échange avec les acteurs permettra d’approfondir les
  sujets abordés .\n\n\nVenez vous informer\, échanger\, débattre tout e
 n vous divertissant.\n\n\nEntrée libre\, ouvert à tout.e.s\; Tract en pj
ATTACH;FMTTYPE=image/jpeg:https://cafeculturelcitoyen.org/wp-content/uploa
 ds/2022/09/logo-attac-e1667205176830.gif
END:VEVENT
BEGIN:VTIMEZONE
TZID:Europe/Paris
X-LIC-LOCATION:Europe/Paris
BEGIN:DAYLIGHT
DTSTART:20220327T030000
TZOFFSETFROM:+0100
TZOFFSETTO:+0200
TZNAME:CEST
END:DAYLIGHT
END:VTIMEZONE
END:VCALENDAR