BEGIN:VCALENDAR
VERSION:2.0
PRODID:-//wp-events-plugin.com//7.2.3.1//EN
TZID:Europe/Paris
X-WR-TIMEZONE:Europe/Paris
BEGIN:VEVENT
UID:2350@cafeculturelcitoyen.org
DTSTART;TZID=Europe/Paris:20231005T200000
DTEND;TZID=Europe/Paris:20231005T220000
DTSTAMP:20230816T071206Z
URL:https://cafeculturelcitoyen.org/evenements/les-jeudis-du-3c-secrets-to
 xiques/
SUMMARY:Les jeudis du 3C - Secrets toxiques
DESCRIPTION:Le tour de France du  collectif Secrets Toxiques s’arrête da
 ns les Bouches-du-Rhône la 1ère quinzaine d’octobre et le 3C s'y assoc
 ie.\n\nLa campagne Secrets Toxiques est née face au paradoxe suivant :\n\
 n 	La loi européenne impose que les pesticides autorisés soient inoffens
 ifs pour la santé humaine et environnementale \;\n 	Pourtant aujourd’hu
 i de très nombreuses études\, dont certaines émanant d’organismes pub
 lics pointent la responsabilité de ces derniers dans l’effondrement de 
 la biodiversité et dans la multiplication d’un large panel de maladies.
 \n\nLe collectif Secrets toxiques a réalisé un documentaire et lutte ave
 c des parlementaires français et européens pour exiger des agences sanit
 aires française (ANSES) et européenne (EFSA) qu’aucun produit dont la 
 formulation serait toxique à court ou long terme ne puisse être utilisé
  à des fins agricoles\, dans un cadre professionnel ou amateur.\n\nSuite 
 à la sortie du film « Secrets toxiques »\, une grande campagne de mob
 ilisation citoyenne a débuté cette année avec l’ambition de parcourir
  toute la France et d’organiser des projections-débats\, colloques\, é
 vénements festifs etc.\n\nPour rappel\, le collectif Secrets Toxiques ras
 semble 70 associations et groupes locaux\, engagés en santé environnemen
 tale. Depuis 2021\, le collectif se mobilise pour informer\, sensibiliser 
 citoyens\, élus sur les dangers liés à la toxicité des pesticides et a
 u non-respect de la réglementation.\n\nVous trouverez la bande annonce du
  film ici :\n\nhttps://www.youtube.com/watch?v=aV_dO8tlyxE
ATTACH;FMTTYPE=image/jpeg:https://cafeculturelcitoyen.org/wp-content/uploa
 ds/2023/08/Capture-decran-2023-08-16-091116.png
END:VEVENT
BEGIN:VTIMEZONE
TZID:Europe/Paris
X-LIC-LOCATION:Europe/Paris
BEGIN:DAYLIGHT
DTSTART:20230326T030000
TZOFFSETFROM:+0100
TZOFFSETTO:+0200
TZNAME:CEST
END:DAYLIGHT
END:VTIMEZONE
END:VCALENDAR