BEGIN:VCALENDAR
VERSION:2.0
PRODID:-//wp-events-plugin.com//7.2.3.1//EN
TZID:Europe/Paris
X-WR-TIMEZONE:Europe/Paris
BEGIN:VEVENT
UID:1985@cafeculturelcitoyen.org
DTSTART;TZID=Europe/Paris:20230112T190000
DTEND;TZID=Europe/Paris:20230112T210000
DTSTAMP:20221214T083744Z
URL:https://cafeculturelcitoyen.org/evenements/les-jeudis-du-3c-resilience
 -et-autonomie-alimentaire-un-enjeu-vital/
SUMMARY:Les jeudis du 3C : Résilience et autonomie alimentaire : un enjeu
  vital
DESCRIPTION:Résilience et autonomie alimentaire : un enjeu vital.\n\nCris
 e climatique\, perte de biodiversité\, choc énergétique\, accaparement 
 des terres\, tension géopolitique : notre système alimentaire est mis 
 à mal.\n\nClément Le Dizès (ingénieur agro-écologue) et Kelly Motte-K
 ronheim (formée à la permaculture) vous proposent une conférence suivie
  d'un débat\, sur les enjeux pesant sur notre système alimentaire et les
  leviers d'actions locaux pour tendre vers une agriculture durable\, respe
 ctueuse du vivant et de l'humain.  
ATTACH;FMTTYPE=image/jpeg:https://cafeculturelcitoyen.org/wp-content/uploa
 ds/2022/12/Capture-decran-2022-12-14-093640.jpg
END:VEVENT
BEGIN:VTIMEZONE
TZID:Europe/Paris
X-LIC-LOCATION:Europe/Paris
BEGIN:STANDARD
DTSTART:20221030T020000
TZOFFSETFROM:+0200
TZOFFSETTO:+0100
TZNAME:CET
END:STANDARD
END:VTIMEZONE
END:VCALENDAR