BEGIN:VCALENDAR
VERSION:2.0
PRODID:-//wp-events-plugin.com//7.2.3.1//EN
TZID:Europe/Paris
X-WR-TIMEZONE:Europe/Paris
BEGIN:VEVENT
UID:2031@cafeculturelcitoyen.org
DTSTART;TZID=Europe/Paris:20230223T190000
DTEND;TZID=Europe/Paris:20230223T220000
DTSTAMP:20230129T183343Z
URL:https://cafeculturelcitoyen.org/evenements/les-jeudis-du-3c-que-dissim
 ule-le-voile-pas-seulement-islamique-a-lintersection-des-dominations-ateli
 er-utopie/
SUMMARY:les jeudis du 3C - Que dissimule le voile (pas seulement islamique)
  ? A l'intersection des dominations. Atelier Utopie
DESCRIPTION:Une étude critique de la condition féminine\, du racisme\, du
  colonialisme ... par une enquête historique renouvelée sur le voile en 
 occident.\n\nQue dissimule le voile (pas seulement islamique) ?
ATTACH;FMTTYPE=image/jpeg:https://cafeculturelcitoyen.org/wp-content/uploa
 ds/2023/01/e024230-b155f.jpg
END:VEVENT
BEGIN:VTIMEZONE
TZID:Europe/Paris
X-LIC-LOCATION:Europe/Paris
BEGIN:STANDARD
DTSTART:20221030T020000
TZOFFSETFROM:+0200
TZOFFSETTO:+0100
TZNAME:CET
END:STANDARD
END:VTIMEZONE
END:VCALENDAR