BEGIN:VCALENDAR
VERSION:2.0
PRODID:-//wp-events-plugin.com//7.2.3.1//EN
TZID:Europe/Paris
X-WR-TIMEZONE:Europe/Paris
BEGIN:VEVENT
UID:2304@cafeculturelcitoyen.org
DTSTART;TZID=Europe/Paris:20230622T203000
DTEND;TZID=Europe/Paris:20230622T223000
DTSTAMP:20230530T150122Z
URL:https://cafeculturelcitoyen.org/evenements/les-jeudis-du-3c-projection
 -du-documentaire-etrangers-dans-leur-propre-pays/
SUMMARY:les jeudis du 3C - Projection  du documentaire « Étrangers dans l
 eur propre pays »\,
DESCRIPTION:Etrangers dans leur propre pays » est un film de 55 minutes so
 us-titré en français sur la persécution des bahá'ís en Iran.\n\nRéal
 isé par le documentariste irano-canadien Farid Haerinejad\, le film donne
  une description de la répression des bahá'ís\, pensée\, organisée et
  mise en œuvre par les autorités iraniennes depuis l’instauration d’
 une République islamique en Iran en 1979.\n\nLe film est traversé de ré
 férences historiques : on y voit plusieurs extraits d’émissions télé
 visées iraniennes dont l’une où un représentant clérical affirme que
  les bahá'ís doivent être privés de tout sauf « de respirer ». Des a
 vocats qui ont défendu les bahá'ís et sont aujourd’hui exilés y déc
 rivent leurs expériences. La singularité du film tient surtout dans l’
 approche intimiste de Farid Haerinejad – qui lui-même n’est pas de co
 nfession bahá'íe. Il suit le parcours de quelques familles durement pers
 écutées et montre comment la répression a affecté pour toujours les en
 fants et les proches des personnes exécutées\, emprisonnées ou déposs
 édées de leur travail.\n\n«  Contrairement aux autres minorités\, les
  baha’is en Iran n’ont même pas « le droit au droit».\n
ATTACH;FMTTYPE=image/jpeg:https://cafeculturelcitoyen.org/wp-content/uploa
 ds/2023/05/Capture-decran-2023-05-30-165936.png
END:VEVENT
BEGIN:VTIMEZONE
TZID:Europe/Paris
X-LIC-LOCATION:Europe/Paris
BEGIN:DAYLIGHT
DTSTART:20230326T030000
TZOFFSETFROM:+0100
TZOFFSETTO:+0200
TZNAME:CEST
END:DAYLIGHT
END:VTIMEZONE
END:VCALENDAR