BEGIN:VCALENDAR
VERSION:2.0
PRODID:-//wp-events-plugin.com//7.2.3.1//EN
TZID:Europe/Paris
X-WR-TIMEZONE:Europe/Paris
BEGIN:VEVENT
UID:2276@cafeculturelcitoyen.org
DTSTART;TZID=Europe/Paris:20230525T200000
DTEND;TZID=Europe/Paris:20230525T220000
DTSTAMP:20230525T082804Z
URL:https://cafeculturelcitoyen.org/evenements/les-jeudis-du-3c-pour-que-c
 essent-les-violences-faites-aux-femmes/
SUMMARY:Les jeudis du 3C - Soirée LDH annulée
DESCRIPTION:
ATTACH;FMTTYPE=image/jpeg:https://cafeculturelcitoyen.org/wp-content/uploa
 ds/2022/10/Capture-decran-2022-10-28-160030.png
END:VEVENT
BEGIN:VTIMEZONE
TZID:Europe/Paris
X-LIC-LOCATION:Europe/Paris
BEGIN:DAYLIGHT
DTSTART:20230326T030000
TZOFFSETFROM:+0100
TZOFFSETTO:+0200
TZNAME:CEST
END:DAYLIGHT
END:VTIMEZONE
END:VCALENDAR