BEGIN:VCALENDAR
VERSION:2.0
PRODID:-//wp-events-plugin.com//7.2.3.1//EN
TZID:Europe/Paris
X-WR-TIMEZONE:Europe/Paris
BEGIN:VEVENT
UID:1959@cafeculturelcitoyen.org
DTSTART;TZID=Europe/Paris:20221201T200000
DTEND;TZID=Europe/Paris:20221201T213000
DTSTAMP:20221129T132613Z
URL:https://cafeculturelcitoyen.org/evenements/les-jeudis-du-3c-notre-corp
 s-nous-memes-avec-mathilde-blezat/
SUMMARY:les jeudis du 3C - Notre corps\, nous-mêmes avec Mathilde Blézat
DESCRIPTION:Mathilde Blézat est l'une des co-autrices de cette version ré
 actualisée d'un "manuel de féminisme"\, désormais classique.\nContraire
 ment à ce qui nous est demandé\, notre corps ne peut pas être constamme
 nt en forme\, beau\, maigre\, épilé\, désirant\, sans carence ni hémat
 ome. Il a des coups de pompe\, des baisses et des montées d’hormones\, 
 des addictions. Il est parfois blessé. Notre corps doit pouvoir reprendre
  son souffle. Il nous appartient\, il est notre meilleur instrument : nous
  le voulons en bonne santé\, capable de se défendre\, et libre.\nPubert
 é\, sexualité\, contraception\, avortement\, accouchement\, vieillesse\,
  mais aussi riposte et émancipation… À travers de multiples récits d
 ’expérience\, des témoignages récoltés lors de groupes de parole et 
 d’entretiens\, mais aussi des données médicales et scientifiques\, ce 
 manuel féministe propose des outils permettant aux femmes de mieux se con
 naître et de se sentir plus sûres et plus fortes\, ensemble.\nParu pour 
 la première fois aux États-Unis en 1973\, rédigé par un collectif de f
 emmes\, Notre corps\, nous-mêmes a été adapté dans 35 langues\, dont l
 e français en 1977. Ce livre en est une version entièrement réactualis
 ée.
ATTACH;FMTTYPE=image/jpeg:https://cafeculturelcitoyen.org/wp-content/uploa
 ds/2022/11/Capture-decran-2022-11-29-142536.png
END:VEVENT
BEGIN:VTIMEZONE
TZID:Europe/Paris
X-LIC-LOCATION:Europe/Paris
BEGIN:STANDARD
DTSTART:20221030T020000
TZOFFSETFROM:+0200
TZOFFSETTO:+0100
TZNAME:CET
END:STANDARD
END:VTIMEZONE
END:VCALENDAR