BEGIN:VCALENDAR
VERSION:2.0
PRODID:-//wp-events-plugin.com//7.2.3.1//EN
TZID:Europe/Paris
X-WR-TIMEZONE:Europe/Paris
BEGIN:VEVENT
UID:1919@cafeculturelcitoyen.org
DTSTART;TZID=Europe/Paris:20221103T200000
DTEND;TZID=Europe/Paris:20221103T220000
DTSTAMP:20221010T082358Z
URL:https://cafeculturelcitoyen.org/evenements/les-jeudis-du-3c-mauvaise-g
 raine-un-film-de-berangere-hauet/
SUMMARY:Les Jeudis du 3C - "Mauvaise graine"\, un film de Bérangère HAUET
DESCRIPTION:Projection-débat sur le thème de la santé et de l'autonomie\
 n\nNous sommes dans le Cœur des Bauges en Savoie\, zone rurale de montagn
 e. Sur son terrain\, dans la nature et dans son labo de transformation\, F
 anny perpétue et partage des savoirs et des gestes séculaires\, travaill
 e avec simplicité\, passion et respect de la terre et des hommes\, malgr
 é la complexité législative qui accompagne sa profession.\nDepuis 1941\
 , en France\, le diplôme d'herboriste n'est plus délivré. Ce métier es
 t aujourd'hui interdit. La vente de produits issus des plantes aromatiques
  et médicinales est très réglementée\, au risque de la perte de savoir
 s et de savoirs-faire anciens\, la décrédibilisation du soin par les pla
 ntes.\n\nChoix de vie en cohérence avec ses valeurs\, c'est aussi un enga
 gement politique : la reconnaissance du métier d'herboriste\, de leurs sa
 voirs\, un retour à l'autonomie pour les premiers soins\, une réponse po
 ur l'avenir en terme de souveraineté. Une résilience en phase avec les e
 njeux environnementaux et sociaux de notre époque.\n\nPortrait d'une jeun
 e femme passionnée et engagée.\n\nSoirée co-animée avec un-e naturopat
 he
ATTACH;FMTTYPE=image/jpeg:https://cafeculturelcitoyen.org/wp-content/uploa
 ds/2022/10/Capture-decran-2022-10-01-090726.jpg
END:VEVENT
BEGIN:VTIMEZONE
TZID:Europe/Paris
X-LIC-LOCATION:Europe/Paris
BEGIN:STANDARD
DTSTART:20221030T020000
TZOFFSETFROM:+0200
TZOFFSETTO:+0100
TZNAME:CET
END:STANDARD
END:VTIMEZONE
END:VCALENDAR