BEGIN:VCALENDAR
VERSION:2.0
PRODID:-//wp-events-plugin.com//7.2.3.1//EN
TZID:Europe/Paris
X-WR-TIMEZONE:Europe/Paris
BEGIN:VEVENT
UID:2270@cafeculturelcitoyen.org
DTSTART;TZID=Europe/Paris:20230518T180000
DTEND;TZID=Europe/Paris:20230518T200000
DTSTAMP:20230505T104428Z
URL:https://cafeculturelcitoyen.org/evenements/les-jeudis-du-3c-marilene-v
 igroux-cet-espace-que-je-prends-recueil-de-poemes-illustres-de-collages-2/
SUMMARY:les Jeudis du 3C - Marilène Vigroux\, Cet espace que je prends\, P
 oésie et Ecoféminisme
DESCRIPTION:\n\n\n\n\nMarilène Vigroux\, Cet espace que je prends\, Recuei
 l de Poèmes illustrés de collages\n\nLecture par Dominique Larrieu\n\nUn
  moment de lecture de poèmes\, une exposition des collages qui illustrent
  le recueil\, une mini-conférence sur l’écoféminisme\, les arts et la
  figure de la sorcière contemporaine suivie d’un échange avec le publi
 c\, et pour finir une séance de dédicaces avec l’auteur.\n\nMarilène 
 Vigroux est artiste-auteur\, Docteur en Arts Plastiques\, Esthétique et S
 ciences de l’Art.\n\nInstagram : marilenevigroux_artiste et marilenevig
 roux_inspirations\n\nsite internet : https://marilenevigroux.wixsite.com/
 site-le-corps-dehors\n\nSes livres sont disponibles sur le site thebookedi
 tion.com ainsi qu’aux librairies aixoises le Blason\, le Lagon Noir et l
 e Bookinbar\n\n\n\n\n
ATTACH;FMTTYPE=image/jpeg:https://cafeculturelcitoyen.org/wp-content/uploa
 ds/2023/04/Capture-decran-2023-04-27-191930.png
END:VEVENT
BEGIN:VTIMEZONE
TZID:Europe/Paris
X-LIC-LOCATION:Europe/Paris
BEGIN:DAYLIGHT
DTSTART:20230326T030000
TZOFFSETFROM:+0100
TZOFFSETTO:+0200
TZNAME:CEST
END:DAYLIGHT
END:VTIMEZONE
END:VCALENDAR