BEGIN:VCALENDAR
VERSION:2.0
PRODID:-//wp-events-plugin.com//7.2.3.1//EN
TZID:Europe/Paris
X-WR-TIMEZONE:Europe/Paris
BEGIN:VEVENT
UID:2294@cafeculturelcitoyen.org
DTSTART;TZID=Europe/Paris:20230615T200000
DTEND;TZID=Europe/Paris:20230615T220000
DTSTAMP:20230615T094559Z
URL:https://cafeculturelcitoyen.org/evenements/les-jeudis-du-3c-lutter-con
 tre-lapartheid-en-palestine-la-campagne-bds/
SUMMARY:Les Jeudis du 3C - Annulation de notre soirée-débat sur l'Aparthe
 id en Palestine
DESCRIPTION:75 ans que dure l'occupation israélienne de la Palestine\, dan
 s des conditions humanitaires\, politiques et sanitaires effroyables. Il s
 'agit d'un authentique régime d'Apartheid.\n\nNicolas Protat\, activiste 
 de la cause palestinienne\, parlera de l'histoire de la Nakba et de l'occu
 pation\, ainsi que de l'actualité de la résistance.\n\nUne personne de l
 a Campagne BDS viendra renforcer la question de la résistance et des moye
 ns d'action à notre portée pour accompagner cette lutte\n\nLa campagne B
 DS (Boycott Désinvestissement Sanctions) a été lancée par la société
  civile palestinienne en 2005\, suite à des dizaines d’années de lutte
  contre Israël et sa politique d’apartheid.\n\nLes Palestiniens font ap
 pel aux citoyens de conscience du monde\, afin que prenne fin le plus long
  conflit de l’histoire récente\, en leur demandant de boycotter tous le
 s produits israéliens\, mais aussi de pratiquer un boycott sportif\, cult
 urel et universitaire \; de faire pression sur les entreprises étrangère
 s\, notamment européennes\, afin qu’elles arrêtent leur collaboration 
 avec cet Etat criminel.\n\nEnfin\, ils nous demandent de faire appliquer p
 ar nos Etats les sanctions qui auraient dû être appliquées depuis des d
 izaines d’années devant ce déni de droit intolérable.\nIl apparaît a
 ujourd’hui que\, loin des grands débats théoriques\, la campagne BDS e
 st une arme efficace pour faire plier Israël\, d’autant que nous ne pou
 vons rien attendre de l’Onu ou des autres pays.
ATTACH;FMTTYPE=image/jpeg:https://cafeculturelcitoyen.org/wp-content/uploa
 ds/2023/05/logo-bds.png
END:VEVENT
BEGIN:VTIMEZONE
TZID:Europe/Paris
X-LIC-LOCATION:Europe/Paris
BEGIN:DAYLIGHT
DTSTART:20230326T030000
TZOFFSETFROM:+0100
TZOFFSETTO:+0200
TZNAME:CEST
END:DAYLIGHT
END:VTIMEZONE
END:VCALENDAR